Workbook

Sheet Plan
A4: PREFEITURA MUNICIPAL DE SÃO DOMINGOS DO NORTE
A5: Rod. Gether Lopes de Farias, s/nº - Bairro Emílio Callegari São Domingos do Norte - ES - CEP 29745-000
A6: Telefax: (027) 3742 1219 - telefone (027) 742 1266 / 1216 / 1188
A7: CNPJ 36.350.312/0001-72
A8: PLANILHA ORÇAMENTÁRIA
D10: REF. CUSTOS | G10: 42583
A11: PROJETO: CERCAMENTO E DRENAGEM DA USINA DE LIXO
F12: BDI 30,9% | G12: LS 128,33%
A13: ORGÃO | B13: COD. | C13: ESPECIFICAÇÃO DO SERVIÇO | D13: UND | E13: QNT | F13: VALOR UNIT. | G13: VALOR TOTAL
A14: 1.0 | C14: DRENAGEM
A15: 1.1 | B15: 73882/003 (SINAPI) | C15: Calha em concreto simples, em meia cana de concreto, diametro 400 mm. | D15: m | E15: 403.44 | F15: =37.54*1.28 -> 48.0512 | G15: =E15*F15 -> 19385.776
A16: SUB - TOTAL | G16: =SUM(G15) -> 19385.776
A17: 2.0 | C17: CERCAMENTO
A18: 2.1 | B18: 200129 (IOPES) | C18: Cerca com mourão de concreto reto H=2.5, base quadrada 10x10cm, fixado em solo a cada 3.0m, com 10 fios de arame galvanizado liso nº 10 | D18: m | E18: 547 | F18: 78.07 | G18: =E18*F18 -> 42704.29
A19: SUB - TOTAL | G19: =SUM(G18) -> 42704.29
A20: 3.0 | C20: MOVIMENTAÇÃO DE TERRA
A21: 3.1 | B21: 30101 (IOPES) | C21: Escavação manual em material de 1a. categoria, até 1.50 m de profundidade | D21: m³ | E21: 48.36 | F21: 41.86 | G21: =E21*F21 -> 2024.3496
A22: SUB - TOTAL | G22: =SUM(G21) -> 2024.3496
A23: 4 | C23: ESTRUTURAS
A24: 2.1 | B24: 40202 (IOPES) | C24: Fornecimento, preparo e aplicação de concreto ciclópico Fck=15MPa com 30% de pedra de mão | D24: m³ | E24: 2.19 | F24: 467.63 | G24: =E24*F24 -> 1024.1097
A25: SUB - TOTAL | G25: =SUM(G24) -> 1024.1097
A26: TOTAL GERAL PROJETO | G26: =G16+G19+G25+G22 -> 65138.525
C27: Fabrício Bezerra Carlos de Souza Arquiteto e Urbanista

Sheet Cron 
A1: PREFEITURA MUNICIPAL DE SÃO DOMINGOS DO NORTE Rod. Gether Lopes de Farias, s/nº - Bairro Emílio Callegari São Domingos do Norte - ES CEP 29745-000-Telefax: (027) 742 1219 - telefone (027) 742 1266 / 1216 / 1188 CNPJ 36.350.312/0001-72 CRONOGRAMA FISICO - FINANCEIRO
A8: PROJETO: "DRENAGEM E CERCAMENTO DA USINA DE LIXO" | C8: Responsável: Fabrício Bezerra Carlos de Souza Arquiteto e Urbanista
C9: REF. CUSTO:IOPES 08/2016
A10: ITEM | B10: DESCRIÇÃO DOS SERVIÇOS | C10: TOTAIS | D10: MÊS
D11: 1
A12: 1 | B12: =Plan!C14 -> DRENAGEM | C12: =Plan!G16 -> 19385.776 | D12: =C12 -> 19385.776
A13: 2 | B13: =Plan!C17 -> CERCAMENTO | C13: =Plan!G19 -> 42704.29 | D13: =C13 -> 42704.29
A14: 3 | B14: MOVIMENTAÇÃO DE TERRA | C14: =Plan!G22 -> 2024.3496 | D14: =C14 -> 2024.3496
A15: 4 | B15: ESTRUTURAS | C15: =Plan!G25 -> 1024.1097 | D15: =C15 -> 1024.1097
A16: PARCIAIS | C16: =SUM(C12:C13) -> 62090.066 | D16: =SUM(D12:D15) -> 65138.525
A17: TOTAIS ACUMULADO | D17: =D16 -> 65138.525
B18: Fabrício Bezerra Carlos de Souza Arquiteto e Urbanista
