Workbook

Sheet PLANILHA
A4: PREFEITURA MUNICIPAL DE SÃO DOMINGOS DO NORTE
A5: Rod. Gether Lopes de Farias, s/nº - Bairro Emílio Callegari São Domingos do Norte - ES - CEP 29745-000
A6: Telefax: (027) 3742 1219 - telefone (027) 742 1266 / 1216 / 1188
A7: CNPJ 36.350.312/0001-72
A8: PLANILHA ORÇAMENTÁRIA
A10: PROJETO: E.U.M. SÃO FRANCISCO | D10: REF. CUSTOS: IOPES 11/2017
D11: REF. CUSTOS: SINAPI 12/2017
F12: BDI 30,90% | G12: LS 128,33%
A13: ÍTEM | B13: COD. | C13: ESPECIFICAÇÃO DO SERVIÇO | D13: UND | E13: QNT | F13: VALOR UNIT. | G13: VALOR TOTAL
A14: 1.0 | C14: DEMOLIÇÕES E RETIRADAS
A15: 1.1 | B15: 010208 | C15: Retirada de revestimento antigo e reboco | D15: m² | E15: =calculos!R12 -> 124.765 | F15: 7.89 | G15: =(E15*F15) -> 984.39585
A16: 1.2 | B16: 010246 | C16: Lixamento de parede com pintura antiga PVA para recebimento de nova camada de tinta | D16: m² | E16: =calculos!R21 -> 217.2255 | F16: 2.95 | G16: =(E16*F16) -> 640.81523
A17: 1.3 | B17: 010271 | C17: Retirada de caixas/quadros elétricos | D17: und | E17: =calculos!R30 -> 1 | F17: 11.75 | G17: =(E17*F17) -> 11.75
A18: 1.4 | B18: 010240 | C18: Retirada de pontos elétricos (luminárias, interruptores e tomadas) | D18: und | E18: =calculos!R37 -> 18 | F18: 8.72 | G18: =(E18*F18) -> 156.96
A19: 1.5 | B19: 010218 | C19: Remoção de pintura antiga a óleo ou esmalte | D19: m² | E19: =calculos!R43 -> 83.7315 | F19: 10.21 | G19: =(E19*F19) -> 854.89862
A20: 1.6 | B20: 010318 | C20: Remoção de forro em eucatex, sem aproveitamento do material | D20: m² | E20: =calculos!R52 -> 72.396 | F20: 11.17 | G20: =(E20*F20) -> 808.66332
A21: 1.7 | B21: 010209 | C21: Demolição de alvenaria | D21: m³ | E21: =calculos!R62 -> 8.7255 | F21: 47.39 | G21: =(E21*F21) -> 413.50144
A22: 1.8 | B22: 010326 | C22: Retirada de estrutura em madeira do telhado | D22: m² | E22: =calculos!R73 -> 133.97 | F22: 23.21 | G22: =(E22*F22) -> 3109.4437
A23: 1.9 | B23: 010255 | C23: Remoção de telhas cerâmicas, tipo colonial, inclusive cumeeiras | D23: m² | E23: =calculos!R79 -> 133.97 | F23: 18.98 | G23: =(E23*F23) -> 2542.7506
A24: 1.10 | B24: 010327 | C24: Retirada de marco de madeira | D24: m | E24: =calculos!R85 -> 24.6 | F24: 1.96 | G24: =(E24*F24) -> 48.216
A25: 1.11 | B25: 010223 | C25: Retirada de aparelhos sanitários | D25: und | E25: =calculos!R92 -> 4 | F25: 16.41 | G25: =(E25*F25) -> 65.64
A26: 1.12 | B26: 010225 | C26: Retirada de bancada de pia | D26: m² | E26: =calculos!R98 -> 1.2 | F26: 19.69 | G26: =(E26*F26) -> 23.628
A27: 1.13 | B27: 010226 | C27: Retirada de tanque de cimento | D27: und | E27: =calculos!R104 -> 1 | F27: 19.69 | G27: =(E27*F27) -> 19.69
A28: 1.14 | B28: 010323 | C28: Retirada de torneiras e registros | D28: und | E28: =calculos!R109 -> 7 | F28: 8.72 | G28: =(E28*F28) -> 61.04
A29: 1.15 | B29: 010214 | C29: Retirada de portas e janelas de madeira, inclusive batentes | D29: m² | E29: =calculos!R115 -> 17.76 | F29: 12.63 | G29: =(E29*F29) -> 224.3088
A30: 1.16 | B30: 010215 | C30: Retirada de esquadrias metálicas | D30: m² | E30: =calculos!R123 -> 14.1 | F30: 7.89 | G30: =(E30*F30) -> 111.249
A31: 1.17 | B31: 010227 | C31: Retirada de caixa d'água de fibrocimento, inclusive tubulação de ligação | D31: und | E31: =calculos!R129 -> 1 | F31: 32.82 | G31: =(E31*F31) -> 32.82
A32: 1.18 | B32: 010219 | C32: Demolição manual de concreto armado | D32: m³ | E32: =calculos!R135 -> 0.441 | F32: 261.62 | G32: =(E32*F32) -> 115.37442
A33: SUB - TOTAL | G33: =SUM(G15:G32) -> 10225.145
A34: 2.0 | C34: LIMPEZA DO TERRENO
A35: 2.1 | B35: 010402 | C35: Raspagem e limpeza do terreno (manual) | D35: m² | E35: =calculos!R146 -> 180 | F35: 3.48 | G35: =(E35*F35) -> 626.4
A36: SUB - TOTAL | G36: =SUM(G35) -> 626.4
A37: 3.0 | C37: LOCAÇÃO
A38: 3.1 | B38: 010501 | C38: Locação de obra com gabarito de madeira | D38: m² | E38: =calculos!R153 -> 180 | F38: 18.98 | G38: =(E38*F38) -> 3416.4
A39: SUB - TOTAL | G39: =SUM(G38) -> 3416.4
A40: 4.0 | C40: INSTALAÇÃO CANTEIRO DE OBRAS
A41: 4.1 | B41: 020305 | C41: Placa de obra nas dimensões de 2.0 x 4.0 m, padrão IOPES | D41: m² | E41: =calculos!R160 -> 8 | F41: 186.19 | G41: =(E41*F41) -> 1489.52
A42: 4.2 | B42: 74220/001 SINAPI | C42: Tapume de chapa de madeira compensada, E= 6mm, com pintura a cal reaproveitamento 2x | D42: m² | E42: =calculos!R166 -> 66 | F42: =53.47*1.309 -> 69.99223 | G42: =(E42*F42) -> 4619.4872
A43: 4.3 | B43: 020702 | C43: Barracão para almoxarifado área de 10.90m2, de chapa de compensado de 12mm e pontalete 8x8cm, piso cimentado e cobertura de telhas de fibrocimento de 6mm, incl. ponto de luz, conf. projeto (1 utilização) | D43: m² | E43: =calculos!R172 -> 10.9 | F43: 411.17 | G43: =(E43*F43) -> 4481.753
A44: SUB - TOTAL | G44: =SUM(G41:G43) -> 10590.76
...

Sheet calculos
A1: MEMÓRIA DE CÁLCULO
A3: PREFEITURA MUNICIPAL DE SÃO DOMINGOS DO NORTE
A4: Rod. Gether Lopes de Farias, s/nº - Bairro Emílio Callegari São Domingos do Norte - ES - CEP 29745-000
A5: Telefax: (027) 3742 1219 - telefone (027) 742 1266 / 1216 / 1188
A6: CNPJ 36.350.312/0001-72
A8: REFORMA
A9: ITEM | B9: DESCRIÇÃO | R9: TOTAL DO ITEM
A11: 1.0 | B11: SERVIÇOS PRELIMINARES
A12: 1.1 | B12: Retirada de revestimento antigo e reboco | P12: m² | R12: =I19-M19 -> 124.765
D13: x | E13: y | F13: z | G13: w | H13: QUANT. | I13: TOTAL | J13: vãos à descontar | M13: TOTAL | N13: INFORMAÇÕES COMPLEMENTARES
D14: COMP. | E14: LARG. | F14: ALTURA | G14: (%) | J14: COMP. | K14: ALT. | L14: QUANT.
B15: SALA DE AULA | D15: 24.6 | F15: 2 | I15: =D15*F15 -> 49.2
B16: REFEITORIO | D16: 10.34 | F16: 2 | I16: =D16*F16 -> 20.68
B17: COZINHA | D17: 15.59 | F17: 1.5 | I17: =D17*F17 -> 23.385
B18: PER. EXTERNO | D18: 31.5 | F18: 1 | I18: =D18*F18 -> 31.5
I19: =SUM(I15:I18) -> 124.765
A21: 1.2 | B21: Lixamento de parede com pintura antiga PVA para recebimento de nova camada de tinta | P21: m² | R21: =I28-M28 -> 217.2255
D22: x | E22: y | F22: z | G22: w | H22: QUANT. | I22: TOTAL | J22: vãos à descontar | M22: TOTAL | N22: INFORMAÇÕES COMPLEMENTARES
D23: COMP. | E23: LARG. | F23: ALTURA | G23: (%) | J23: COMP. | K23: ALT. | L23: QUANT.
B24: SALA DE AULA | D24: 24.6 | F24: 2.85 | I24: =D24*F24 -> 70.11 | J24: 1.18 | K24: 1.5 | L24: 4 | M24: =J24*K24*L24 -> 7.08
B25: REFEITORIO | D25: 10.34 | F25: 2.85 | I25: =D25*F25 -> 29.469 | M25: =J25*K25*L25 -> 0
B26: COZINHA | D26: 15.59 | F26: 2.85 | I26: =D26*F26 -> 44.4315 | J26: 0.8 | K26: 1.5 | L26: 2 | M26: =J26*K26*L26 -> 2.4
B27: PER. EXTERNO | D27: 31.5 | F27: 2.85 | I27: =D27*F27 -> 89.775 | J27: 1.18 | K27: 1.5 | L27: 4 | M27: =J27*K27*L27 -> 7.08
I28: =SUM(I24:I27) -> 233.7855 | M28: =SUM(M24:M27) -> 16.56
A30: 1.3 | B30: Retirada de caixas/quadros elétricos | P30: UND | R30: =I34-M34 -> 1
D31: x | E31: y | F31: z | G31: w | H31: QUANT. | I31: TOTAL | J31: vãos à descontar | M31: TOTAL | N31: INFORMAÇÕES COMPLEMENTARES
D32: COMP. | E32: LARG. | F32: ALTURA | G32: (%) | J32: COMP. | K32: ALT. | L32: QUANT.
H33: 1 | I33: =H33 -> 1 | M33: 0
I34: =SUM(I33) -> 1 | M34: 0
A37: 1.4 | B37: Retirada de pontos elétricos (luminárias, interruptores e tomadas) | P37: PONTO | R37: =I41-M41 -> 18
D38: x | E38: y | F38: z | G38: w | H38: QUANT. | I38: TOTAL | J38: vãos à descontar | M38: TOTAL | N38: INFORMAÇÕES COMPLEMENTARES
D39: COMP. | E39: LARG. | F39: ALTURA | G39: (%) | J39: COMP. | K39: ALT. | L39: QUANT.
H40: 18 | I40: =H40 -> 18 | M40: 0
I41: =SUM(I40) -> 18 | M41: 0
A43: 1.5 | B43: Remoção de pintura antiga a óleo ou esmalte | P43: m² | R43: =I50-M50 -> 83.7315
D44: x | E44: y | F44: z | G44: w | H44: QUANT. | I44: TOTAL | J44: vãos à descontar | M44: TOTAL | N44: INFORMAÇÕES COMPLEMENTARES
D45: PER. | E45: LARG. | F45: ALTURA | G45: (%) | J45: COMP. | K45: ALT. | L45: QUANT.
B46: SALA DE AULA | D46: 24.6 | F46: 1.05 | I46: =D46*F46 -> 25.83 | M46: =J46*K46*L46 -> 0
B47: REFEITORIO | D47: 10.34 | F47: 1.05 | I47: =D47*F47 -> 10.857 | M47: =J47*K47*L47 -> 0
B48: COZINHA | D48: 15.59 | F48: 1.05 | I48: =D48*F48 -> 16.3695 | J48: 0.8 | K48: 1.5 | L48: 2 | M48: =J48*K48*L48 -> 2.4
...

Sheet Cron 
A1: PREFEITURA MUNICIPAL DE SÃO DOMINGOS DO NORTE Rod. Gether Lopes de Farias, s/nº - Bairro Emílio Callegari São Domingos do Norte - ES - CEP 29745-000 Telefax: (027) 742 1219 - telefone (027) 742 1266 / 1216 / 1188 CNPJ 36.350.312/0001-72 CRONOGRAMA FISICO - FINANCEIRO
A10: PROJETO: "E.U.M" SÃO FRANCISQUINHO
A11: ITEM | B11: DESCRIÇÃO DOS SERVIÇOS | C11: TOTAIS | D11: MÊS 01 | F11: MÊS 02 | H11: MÊS 03 | J11: MÊS 04 | L11: MÊS 05 | N11: MÊS 06 | P11: MÊS 07 | R11: MÊS 08 | T11: MÊS 09 | V11: MÊS 10
D12: V. MENSAL | E12: PORC. | F12: V. MENSAL | G12: PORC. | H12: V. MENSAL | I12: PORC. | J12: V. MENSAL | K12: PORC. | L12: V. MENSAL | M12: PORC. | N12: V. MENSAL | O12: PORC. | P12: V. MENSAL | Q12: PORC. | R12: V. MENSAL | S12: PORC. | T12: V. MENSAL | U12: PORC. | V12: V. MENSAL | W12: PORC.
A13: 1 | B13: =PLANILHA!C14 -> DEMOLIÇÕES E RETIRADAS | C13: =PLANILHA!G33 -> 10225.145 | D13: =C13/5 -> 2045.029 | E13: =D13/C13 -> 0.2 | H13: =D13 -> 2045.029 | I13: =E13 -> 0.2 | L13: =H13 -> 2045.029 | M13: =I13 -> 0.2 | R13: =L13 -> 2045.029 | S13: =M13 -> 0.2 | V13: =R13 -> 2045.029 | W13: =S13 -> 0.2
A14: 2 | B14: =PLANILHA!C34 -> LIMPEZA DO TERRENO | C14: =PLANILHA!G36 -> 626.4 | D14: =C14*100% -> 626.4 | E14: =D14/C14 -> 1
A15: 3 | B15: =PLANILHA!C37 -> LOCAÇÃO | C15: =PLANILHA!G39 -> 3416.4 | D15: =C15*100% -> 3416.4 | E15: =D15/C15 -> 1
A16: 4 | B16: =PLANILHA!C40 -> INSTALAÇÃO CANTEIRO DE OBRAS | C16: =PLANILHA!G44 -> 10590.76 | D16: =C16*100% -> 10590.76 | E16: =D16/C16 -> 1
A17: 5 | B17: =PLANILHA!C45 -> MOVIMENTAÇÃO DE TERRA | C17: =PLANILHA!G49 -> 9580.6255 | D17: =C17*30% -> 2874.1877 | E17: =D17/C17 -> 0.3 | F17: =C17*50% -> 4790.3128 | G17: =F17/C17 -> 0.5 | H17: =C17*20% -> 1916.1251 | I17: =H17/C17 -> 0.2
A18: 6 | B18: =PLANILHA!C50 -> FUNDAÇÃO E ESTRUTURA | C18: =PLANILHA!G59 -> 73477.048 | D18: =C18*30% -> 22043.114 | E18: =D18/C18 -> 0.3 | F18: =C18*30% -> 22043.114 | G18: =F18/C18 -> 0.3 | H18: =C18*20% -> 14695.41 | I18: =H18/C18 -> 0.2 | J18: =C18*20% -> 14695.41 | K18: =J18/C18 -> 0.2
A19: 7 | B19: =PLANILHA!C60 -> ALVENARIA | C19: =PLANILHA!G62 -> 15876.091 | H19: =C19*40% -> 6350.4365 | I19: =H19/C19 -> 0.4 | J19: =C19*40% -> 6350.4365 | K19: =J19/C19 -> 0.4 | L19: =C19*20% -> 3175.2182 | M19: =L19/C19 -> 0.2
A20: 8 | B20: =PLANILHA!C63 -> COBERTURA | C20: =PLANILHA!G68 -> 73571.779 | N20: =C20*50% -> 36785.89 | O20: =N20/C20 -> 0.5 | P20: =C20*50% -> 36785.89 | Q20: =P20/C20 -> 0.5
A21: 9 | B21: =PLANILHA!C69 -> TETOS E FORRO | C21: =PLANILHA!G71 -> 10856.788 | V21: =C21*100% -> 10856.788 | W21: =V21/C21 -> 1
A22: 10 | B22: =PLANILHA!C72 -> REVESTIMENTO DE PAREDES E TETOS | C22: =PLANILHA!G77 -> 66527.043 | N22: =C22*30% -> 19958.113 | O22: =N22/C22 -> 0.3 | P22: =C22*30% -> 19958.113 | Q22: =P22/C22 -> 0.3 | R22: =C22*30% -> 19958.113 | S22: =R22/C22 -> 0.3 | T22: =C22*10% -> 6652.7043 | U22: =T22/C22 -> 0.1
A23: 11 | B23: =PLANILHA!C78 -> REVESTIMENTO DE PISO | C23: =PLANILHA!G84 -> 19426.403 | R23: =C23*40% -> 7770.5613 | S23: =R23/C23 -> 0.4 | T23: =C23*50% -> 9713.2016 | U23: =T23/C23 -> 0.5 | V23: =C23*10% -> 1942.6403 | W23: =V23/C23 -> 0.1
A24: 12 | B24: =PLANILHA!C85 -> INSTALAÇÃO ELÉTRICA | C24: =PLANILHA!G102 -> 30860.03 | J24: =C24*10% -> 3086.003 | K24: =J24/C24 -> 0.1 | L24: =C24*10% -> 3086.003 | M24: =L24/C24 -> 0.1 | N24: =C24*20% -> 6172.006 | O24: =N24/C24 -> 0.2 | P24: =C24*20% -> 6172.006 | Q24: =P24/C24 -> 0.2 | R24: =C24*20% -> 6172.006 | S24: =R24/C24 -> 0.2 | T24: =C24*10% -> 3086.003 | U24: =T24/C24 -> 0.1 | V24: =C24*10% -> 3086.003 | W24: =V24/C24 -> 0.1
A25: 13 | B25: =PLANILHA!C103 -> INSTALAÇÃO HIDRO SANITÁRIA | C25: =PLANILHA!G137 -> 18581.554 | J25: =C25*10% -> 1858.1554 | K25: =J25/C25 -> 0.1 | L25: =C25*10% -> 1858.1554 | M25: =L25/C25 -> 0.1 | N25: =C25*20% -> 3716.3108 | O25: =N25/C25 -> 0.2 | P25: =C25*20% -> 3716.3108 | Q25: =P25/C25 -> 0.2 | R25: =C25*20% -> 3716.3108 | S25: =R25/C25 -> 0.2 | T25: =C25*10% -> 1858.1554 | U25: =T25/C25 -> 0.1 | V25: =C25*10% -> 1858.1554 | W25: =V25/C25 -> 0.1
A26: 14 | B26: =PLANILHA!C138 -> ESQUADRIAS DE MADEIRA | C26: =PLANILHA!G141 -> 10738.2 | N26: =C26*20% -> 2147.64 | O26: =N26/C26 -> 0.2 | P26: =C26*20% -> 2147.64 | Q26: =P26/C26 -> 0.2 | R26: =C26*20% -> 2147.64 | S26: =R26/C26 -> 0.2 | T26: =C26*20% -> 2147.64 | U26: =T26/C26 -> 0.2 | V26: =C26*20% -> 2147.64 | W26: =V26/C26 -> 0.2
A27: 15 | B27: =PLANILHA!C142 -> ESQUADRIAS METALICAS | C27: =PLANILHA!G148 -> 29944.243 | N27: =C27*30% -> 8983.2728 | O27: =N27/C27 -> 0.3 | P27: =C27*30% -> 8983.2728 | Q27: =P27/C27 -> 0.3 | R27: =C27*20% -> 5988.8485 | S27: =R27/C27 -> 0.2 | T27: =C27*20% -> 5988.8485 | U27: =T27/C27 -> 0.2
A28: 16 | B28: =PLANILHA!C149 -> IMPERMEABILIZAÇÃO CALHAS, LAJES DESCOBERTAS, BALDRAMES, PAREDES E JARDINEIRAS | C28: =PLANILHA!G151 -> 7459.452 | J28: =C28*100% -> 7459.452 | K28: =J28/C28 -> 1
A29: 17 | B29: =PLANILHA!C152 -> PINTURA | C29: =PLANILHA!G158 -> 28732.678 | N29: =C29*20% -> 5746.5356 | O29: =N29/C29 -> 0.2 | P29: =C29*20% -> 5746.5356 | Q29: =P29/C29 -> 0.2 | R29: =C29*20% -> 5746.5356 | S29: =R29/C29 -> 0.2 | T29: =C29*20% -> 5746.5356 | U29: =T29/C29 -> 0.2 | V29: =C29*20% -> 5746.5356 | W29: =V29/C29 -> 0.2
A30: 18 | B30: =PLANILHA!C159 -> SERVIÇOS COMPLEMENTARES | C30: =PLANILHA!G161 -> 1465.2206 | T30: =C30*100% -> 1465.2206 | U30: =T30/C30 -> 1
A31: 19 | B31: =PLANILHA!C162 -> VIDROS PARA ESQUADRIAS | C31: =PLANILHA!G165 -> 3145.41 | T31: =C31*100% -> 3145.41 | U31: =T31/C31 -> 1
A32: 20 | B32: =PLANILHA!C166 -> PLACAS E PAINÉIS DIVISÓRIOS | C32: =PLANILHA!G168 -> 7760.025 | R32: =C32*50% -> 3880.0125 | S32: =R32/C32 -> 0.5 | T32: =C32*50% -> 3880.0125 | U32: =T32/C32 -> 0.5
A33: 21 | B33: =PLANILHA!C169 -> PAVIMENTAÇÃO | C33: =PLANILHA!G171 -> 4481.256 | T33: =C33*100% -> 4481.256 | U33: =T33/C33 -> 1
A34: 22 | B34: =PLANILHA!C172 -> DIVERSOS INTERNOS | C34: =PLANILHA!G179 -> 20782.4 | R34: =C34*40% -> 8312.9599 | S34: =R34/C34 -> 0.4 | T34: =C34*30% -> 6234.72 | U34: =T34/C34 -> 0.3 | V34: =C34*30% -> 6234.72 | W34: =V34/C34 -> 0.3
A35: 23 | B35: =PLANILHA!C180 -> TRATAMENTO, CONSERVAÇÃO E LIMPEZA | C35: =PLANILHA!G182 -> 3206.7161 | R35: =C35*40% -> 1282.6864 | S35: =R35/C35 -> 0.4 | T35: =C35*30% -> 962.01483 | U35: =T35/C35 -> 0.3 | V35: =C35*30% -> 962.01483 | W35: =V35/C35 -> 0.3
A37: PARCIAIS | C37: =SUM(C13:C35) -> 461331.67 | D37: =SUM(D13:D34) -> 41595.891 | E37: =D37/$C$37 -> 0.090164829 | F37: =SUM(F13:F34) -> 26833.427 | G37: =F37/$C$37 -> 0.058165153 | H37: =SUM(H13:H34) -> 25007 | I37: =H37/$C$37 -> 0.054206121 | J37: =SUM(J13:J34) -> 33449.456 | K37: =J37/$C$37 -> 0.072506309 | L37: =SUM(L13:L34) -> 10164.406 | M37: =L37/$C$37 -> 0.022032751 | N37: =SUM(N13:N34) -> 83509.768 | O37: =N37/$C$37 -> 0.18101894 | P37: =SUM(P13:P34) -> 83509.768 | Q37: =P37/$C$37 -> 0.18101894 | R37: =SUM(R13:R35) -> 67020.703 | S37: =R37/$C$37 -> 0.14527661 | T37: =SUM(T13:T35) -> 55361.722 | U37: =T37/$C$37 -> 0.12000417 | V37: =SUM(V13:V35) -> 34879.527 | W37: =V37/$C$37 -> 0.075606183
A38: TOTAIS ACUMULADO | D38: =D37 -> 41595.891 | E38: =E37 -> 0.090164829 | F38: =F37+D38 -> 68429.318 | G38: =E38+G37 -> 0.14832998 | H38: =H37+F38 -> 93436.318 | I38: =G38+I37 -> 0.2025361 | J38: =H38+J37 -> 126885.77 | K38: =I38+K37 -> 0.27504241 | L38: =J38+L37 -> 137050.18 | M38: =K38+M37 -> 0.29707516 | N38: =L38+N37 -> 220559.95 | O38: =M38+O37 -> 0.4780941 | P38: =N38+P37 -> 304069.72 | ... W38: =U38+W37 -> 1
