Workbook

Sheet PLANILHA
A4: PREFEITURA MUNICIPAL DE SÃO DOMINGOS DO NORTE
A5: Rod. Gether Lopes de Farias, s/nº - Bairro Emílio Callegari São Domingos do Norte - ES - CEP 29745-000
A6: Telefax: (027) 3742 1219 - telefone (027) 742 1266 / 1216 / 1188
A7: CNPJ 36.350.312/0001-72
A8: PLANILHA ORÇAMENTÁRIA
A10: PROJETO: E.U.M. SÃO FRANCISCO | D10: REF. CUSTOS: IOPES 11/2017
D11: REF. CUSTOS: SINAPI 12/2017
F12: BDI 30,90% | G12: LS 128,33%
A13: ÍTEM | B13: COD. | C13: ESPECIFICAÇÃO DO SERVIÇO | D13: UND | E13: QNT | F13: VALOR UNIT. | G13: VALOR TOTAL
A14: 1.0 | C14: DEMOLIÇÕES E RETIRADAS
A15: 1.1 | B15: 010208 | C15: Retirada de revestimento antigo e reboco | D15: m² | E15: =calculos!R12 -> 124.765 | F15: 7.89 | G15: =(E15*F15) -> 984.39585
A16: 1.2 | B16: 010246 | C16: Lixamento de parede com pintura antiga PVA para recebimento de nova camada de tinta | D16: m² | E16: =calculos!R21 -> 217.2255 | F16: 2.95 | G16: =(E16*F16) -> 640.81523
A17: 1.3 | B17: 010271 | C17: Retirada de caixas/quadros elétricos | D17: und | E17: =calculos!R30 -> 1 | F17: 11.75 | G17: =(E17*F17) -> 11.75
A18: 1.4 | B18: 010240 | C18: Retirada de pontos elétricos (luminárias, interruptores e tomadas) | D18: und | E18: =calculos!R37 -> 18 | F18: 8.72 | G18: =(E18*F18) -> 156.96
A19: 1.5 | B19: 010218 | C19: Remoção de pintura antiga a óleo ou esmalte | D19: m² | E19: =calculos!R43 -> 83.7315 | F19: 10.21 | G19: =(E19*F19) -> 854.89862
A20: 1.6 | B20: 010318 | C20: Remoção de forro em eucatex, sem aproveitamento do material | D20: m² | E20: =calculos!R52 -> 72.396 | F20: 11.17 | G20: =(E20*F20) -> 808.66332
A21: 1.7 | B21: 010209 | C21: Demolição de alvenaria | D21: m³ | E21: =calculos!R62 -> 8.7255 | F21: 47.39 | G21: =(E21*F21) -> 413.50144
A22: 1.8 | B22: 010326 | C22: Retirada de estrutura em madeira do telhado | D22: m² | E22: =calculos!R73 -> 133.97 | F22: 23.21 | G22: =(E22*F22) -> 3109.4437
A23: 1.9 | B23: 010255 | C23: Remoção de telhas cerâmicas, tipo colonial, inclusive cumeeiras | D23: m² | E23: =calculos!R79 -> 133.97 | F23: 18.98 | G23: =(E23*F23) -> 2542.7506
A24: 1.10 | B24: 010327 | C24: Retirada de marco de madeira | D24: m | E24: =calculos!R85 -> 24.6 | F24: 1.96 | G24: =(E24*F24) -> 48.216
A25: 1.11 | B25: 010223 | C25: Retirada de aparelhos sanitários | D25: und | E25: =calculos!R92 -> 4 | F25: 16.41 | G25: =(E25*F25) -> 65.64
A26: 1.12 | B26: 010225 | C26: Retirada de bancada de pia | D26: m² | E26: =calculos!R98 -> 1.2 | F26: 19.69 | G26: =(E26*F26) -> 23.628
A27: 1.13 | B27: 010226 | C27: Retirada de tanque de cimento | D27: und | E27: =calculos!R104 -> 1 | F27: 19.69 | G27: =(E27*F27) -> 19.69
A28: 1.14 | B28: 010323 | C28: Retirada de torneiras e registros | D28: und | E28: =calculos!R109 -> 7 | F28: 8.72 | G28: =(E28*F28) -> 61.04
A29: 1.15 | B29: 010214 | C29: Retirada de portas e janelas de madeira, inclusive batentes | D29: m² | E29: =calculos!R115 -> 17.76 | F29: 12.63 | G29: =(E29*F29) -> 224.3088
A30: 1.16 | B30: 010215 | C30: Retirada de esquadrias metálicas | D30: m² | E30: =calculos!R123 -> 14.1 | F30: 7.89 | G30: =(E30*F30) -> 111.249
A31: 1.17 | B31: 010227 | C31: Retirada de caixa d'água de fibrocimento, inclusive tubulação de ligação | D31: und | E31: =calculos!R129 -> 1 | F31: 32.82 | G31: =(E31*F31) -> 32.82
A32: 1.18 | B32: 010219 | C32: Demolição manual de concreto armado | D32: m³ | E32: =calculos!R135 -> 0.441 | F32: 261.62 | G32: =(E32*F32) -> 115.37442
A33: SUB - TOTAL | G33: =SUM(G15:G32) -> 10225.145
A34: 2.0 | C34: LIMPEZA DO TERRENO
A35: 2.1 | B35: 010402 | C35: Raspagem e limpeza do terreno (manual) | D35: m² | E35: =calculos!R146 -> 180 | F35: 3.48 | G35: =(E35*F35) -> 626.4
A36: SUB - TOTAL | G36: =SUM(G35) -> 626.4
A37: 3.0 | C37: LOCAÇÃO
A38: 3.1 | B38: 010501 | C38: Locação de obra com gabarito de madeira | D38: m² | E38: =calculos!R153 -> 180 | F38: 18.98 | G38: =(E38*F38) -> 3416.4
A39: SUB - TOTAL | G39: =SUM(G38) -> 3416.4
A40: 4.0 | C40: INSTALAÇÃO CANTEIRO DE OBRAS
A41: 4.1 | B41: 020305 | C41: Placa de obra nas dimensões de 2.0 x 4.0 m, padrão IOPES | D41: m² | E41: =calculos!R160 -> 8 | F41: 186.19 | G41: =(E41*F41) -> 1489.52
A42: 4.2 | B42: 74220/001 SINAPI | C42: Tapume de chapa de madeira compensada, E= 6mm, com pintura a cal reaproveitamento 2x | D42: m² | E42: =calculos!R166 -> 66 | F42: =53.47*1.309 -> 69.99223 | G42: =(E42*F42) -> 4619.4872
A43: 4.3 | B43: 020702 | C43: Barracão para almoxarifado área de 10.90m2, de chapa de compensado de 12mm e pontalete 8x8cm, piso cimentado e cobertura de telhas de fibrocimento de 6mm, incl. ponto de luz, conf. projeto (1 utilização) | D43: m² | E43: =calculos!R172 -> 10.9 | F43: 411.17 | G43: =(E43*F43) -> 4481.753
A44: SUB - TOTAL | G44: =SUM(G41:G43) -> 10590.76
A45: 5.0 | C45: MOVIMENTAÇÃO DE TERRA
A46: 5.1 | B46: 030101 | C46: Escavação manual em material de 1a. categoria, até 1.50 m de profundidade | D46: m³ | E46: =calculos!R182 -> 30.5816 | F46: 45.19 | G46: =(E46*F46) -> 1381.9825
A47: 5.2 | B47: 030208 | C47: Aterro manual para regularização do terreno em argila, inclusive adensamento manual e fornecimento do material (máximo de 100m3) | D47: m³ | E47: =calculos!R189 -> 60.437 | F47: 114.56 | G47: =(E47*F47) -> 6923.6627
A48: 5.3 | B48: 030119 | C48: Apiloamento do fundo de vala com maço de 30 a 60kg | D48: m² | E48: =calculos!R195 -> 53.956 | F48: 23.63 | G48: =E48*F48 -> 1274.9803
A49: SUB - TOTAL | G49: =SUM(G46:G48) -> 9580.6255
A50: 6.0 | C50: FUNDAÇÃO E ESTRUTURA
A51: 6.1 | B51: 040231 | C51: Fornecimento, preparo e aplicação de concreto magro com consumo mínimo de cimento de 250 kg/m3 (brita 1 e 2) - (5% de perdas já incluído no custo) | D51: m³ | E51: =calculos!R203 -> 2.51468 | F51: 476.74 | G51: =(E51*F51) -> 1198.8485
A52: 6.2 | B52: 040237 | C52: Fornecimento, preparo e aplicação de concreto Fck=25 MPa (brita 1) - (5% de perdas já incluído no custo) | D52: m3 | E52: =calculos!R216 -> 20.2181 | F52: 526.92 | G52: =(E52*F52) -> 10653.321
A53: 6.3 | B53: 040243 | C53: Fornecimento, dobragem e colocação em fôrma, de armadura CA-50 A média, diâmetro de 6.3 a 10.0 mm | D53: kg | E53: =calculos!R225 -> 2048.4 | F53: 6.9 | G53: =(E53*F53) -> 14133.96
A54: 6.4 | B54: 040245 | C54: Fornecimento, dobragem e colocação em fôrma, de armadura CA-50 A grossa diâmetro de 12.5 a 25.0 mm (1/2 a 1") | D54: kg | E54: =calculos!R231 -> 378 | F54: 7.42 | G54: =(E54*F54) -> 2804.76
A55: 6.5 | B55: 040246 | C55: Fornecimento, dobragem e colocação em fôrma, de armadura CA-60 B fina, diâmetro de 4.0 a 7.0mm | D55: kg | E55: =calculos!R237 -> 1819.8 | F55: 7.02 | G55: =(E55*F55) -> 12774.996
A56: 6.6 | B56: 050301 | C56: Verga/contraverga reta de concreto armado 10 x 5 cm, Fck = 15 MPa, inclusive forma, armação e desforma | D56: m | E56: =calculos!R243 -> 59.8 | F56: 9.79 | G56: =(E56*F56) -> 585.442
A57: 6.7 | B57: 040238 | C57: Fôrma de chapa compensada resinada 12mm, levando-se em conta a utilização 3 vezes (incluido o material, corte, montagem, escoramento e desfôrma) | D57: m² | E57: =calculos!R253 -> 363.9258 | F57: 73.61 | G57: =(E57*F57) -> 26788.578
A58: 6.8 | B58: 040601 | C58: Laje pré-fabricada treliçada para forro simples revestido, vão até 3.5m, capeamento 2cm, esp. 10cm, Fck =150Kg/cm2 | D58: m² | E58: =calculos!R259 -> 47.9664 | F58: 94.59 | G58: =(E58*F58) -> 4537.1418
A59: SUB - TOTAL | G59: =SUM(G51:G58) -> 73477.048
A60: 7.0 | C60: ALVENARIA
A61: 7.1 | B61: 050606 | C61: Alvenaria de blocos cerâmicos 10 furos 10x20x20cm, assentados c/argamassa de cimento, cal hidratada CH1 e areia traço 1:0,5:8, esp. das juntas 12mm e esp. das paredes s/revestimento, 10cm (bloco comprado na fábrica, posto obra) | D61: m² | E61: =calculos!R267 -> 316.005 | F61: 50.24 | G61: =(E61*F61) -> 15876.091
A62: SUB - TOTAL | G62: =SUM(G61:G61) -> 15876.091
A63: 8.0 | C63: COBERTURA
A64: 8.1 | B64: 72112 (SINAPI) | C64: Estrutura metalica em tesouras ou trelicas, vao livre de 20m, fornecimento e montagem, nao sendo considerados os fechamentos metalicos, as colunas, os servicos gerais em alvenaria e concreto, as telhas de cobertura e a pintura de acabamento | D64: m² | E64: =calculos!R284 -> 329.6 | F64: =72.96*1.309 -> 95.50464 | G64: =(E64*F64) -> 31478.329
A65: 8.2 | B65: 92580 (SINAPI) | C65: Trama de aço composta por terças para telhados de até 2 águas para telha ondulada de fibrocimento, metálica, plástica ou termoacústica, inclusive uso transporte vertical | D65: m² | E65: =calculos!R290 -> 329.6 | F65: =25.13*1.309 -> 32.89517 | G65: =(E65*F65) -> 10842.248
A66: 8.3 | B66: 090220 | C66: Telha em aço galvanizado trapezoidal 40, e=0.50mm, pintura cor branca nas duas faces, inclusive acessório de fixação, ref. Stanto André, Eternit, Metform ou equivalente | D66: m² | E66: =calculos!R296 -> 344.312 | F66: 63.75 | G66: =(E66*F66) -> 21949.89
A67: 8.4 | B67: 190418 | C67: Pintura de superfície metálica com uma demão de primer Epoxi e duas demãos de tinta à base de Epoxi | D67: m² | E67: =calculos!R303 -> 329.6 | F67: 28.22 | G67: =(E67*F67) -> 9301.312
A68: SUB - TOTAL | G68: =SUM(G64:G67) -> 73571.779
A69: 9.0 | C69: TETOS E FORRO
A70: 9.1 | B70: 110210 | C70: Forro PVC branco L = 20 cm, frisado, colocado | D70: m² | E70: =calculos!R314 -> 207.3489 | F70: 52.36 | G70: =(E70*F70) -> 10856.788
C71: SUB - TOTAL | G71: =SUM(G70) -> 10856.788
A72: 10 | C72: REVESTIMENTO DE PAREDES E TETOS
A73: 10.1 | B73: 110101 | C73: Chapisco com argamassa de cimento e areia média ou grossa lavada no traço 1:3, espessura 5 mm | D73: m² | E73: =calculos!R329 -> 645.4964 | F73: 10.77 | G73: =(E73*F73) -> 6951.9962
A74: 10.2 | B74: 110301 | C74: Emboço de argamassa de cimento, cal hidratada CH1 e areia média ou grossa lavada no traço 1:0.5:6, espessura 20 mm | D74: m² | E74: =calculos!R352 -> 645.4964 | F74: 30.32 | G74: =(E74*F74) -> 19571.451
A75: 10.3 | B75: 120236 | C75: Cerâmica retificada, acabamento brilhante, dim. 32x44cm, ref. de cor OVIEDO PURO BRANCO Biancogres/equiv. assentado com argamassa de cimento colante, inclusive rejuntamento com argamassapre-fabricada para rejunte | D75: m² | E75: =calculos!R375 -> 105.318 | F75: 57.94 | G75: =F75*E75 -> 6102.1249
A76: 10.4 | B76: 110302 | C76: Reboco tipo paulista de argamassa de cimento, cal hidratada CH1 e areia lavada traço 1:0.5:6, espessura 25 mm | D76: m² | E76: =calculos!R384 -> 645.4964 | F76: 52.52 | G76: =(E76*F76) -> 33901.471
A77: SUB - TOTAL | G77: =SUM(G73:G76) -> 66527.043
A78: 11 | C78: REVESTIMENTO DE PISO
A79: 11.1 | B79: 130110 | C79: Lastro regularizado de concreto não estrutural, espessura de 8 cm | D79: m² | E79: =calculos!R422 -> 172.35 | F79: 49.64 | G79: =(E79*F79) -> 8555.454
A80: 11.2 | B80: 130103 | C80: Regularização de base p/ revestimento cerâmico, com argamassa de cimento e areia no traço 1:5, espessura 3cm | D80: m² | E80: =calculos!R437 -> 55.21 | F80: 18.65 | G80: =(E80*F80) -> 1029.6665
A81: 11.3 | B81: 130202 | C81: Piso cimentado liso com 1.5 cm de espessura, de argamassa de cimento e areia no traço 1:3 e juntas plásticas em quadros de 1 m | D81: m² | E81: =calculos!R456 -> 117.14 | F81: 43.04 | G81: =(E81*F81) -> 5041.7056
A82: 11.4 | B82: 130219 | C82: Piso cerâmico 45x45cm, PEI 5, Cargo Plus Gray, marcas de referência Eliane, Cecrisa ou Portobello, assentado com argamassa de cimento colante, inclusive rejuntamento | D82: m² | E82: =calculos!R465 -> 55.21 | F82: 70.76 | G82: =(E82*F82) -> 3906.6596
A83: 11.5 | B83: 130303 | C83: Rodapé de cerâmica PEI-3, assentado com argamassa de cimento cola h = 7.0 cm, inclusive rejuntamento | D83: m | E83: =calculos!R476 -> 73.25 | F83: 12.19 | G83: =(E83*F83) -> 892.9175
A84: SUB - TOTAL | G84: =SUM(G79:G83) -> 19426.403
A85: 12 | C85: INSTALAÇÃO ELÉTRICA
A86: 12.1 | B86: 150307 | C86: Quadro de distribuição de energia, de embutir, com 18 divisões modulares, com barramento | D86: und | E86: =calculos!R490 -> 1 | F86: 451.98 | G86: =(E86*F86) -> 451.98
A87: 12.2 | B87: 151301 | C87: Mini-Disjuntor monopolar 16 A, curva C - 5KA 220/127VCA (NBR IEC 60947-2), Ref. Siemens, GE, Schneider ou equivalente | D87: und | E87: =calculos!R496 -> 9 | F87: 19.78 | G87: =(E87*F87) -> 178.02
A88: 12.3 | B88: 151325 | C88: Mini-Disjuntor bipolar 70 A, curva C - 5KA 220/127VCA (NBR IEC 60947-2), Ref. Siemens, GE, Schneider ou equivalente | D88: und | E88: =calculos!R502 -> 2 | F88: 89.06 | G88: =(E88*F88) -> 178.12
A89: 12.4 | B89: 151336 | C89: Disjuntor DR bipolar 20A, corrente nominal 30 mA | D89: und | E89: =calculos!R508 -> 4 | F89: 180.13 | G89: =(E89*F89) -> 720.52
A90: 12.5 | B90: 151337 | C90: Dispositivo de proteção contra surto (DPS) bipolar, tensão nominal máxima 275VCA, corente de surto máxima 40KA. | D90: und | E90: =calculos!R514 -> 1 | F90: 187.36 | G90: =(E90*F90) -> 187.36
A91: 12.6 | B91: 151405 | C91: Fio ou cabo de cobre termoplástico, com isolamento para 750V, seção de 10.0 mm2 | D91: m | E91: 30 | F91: 10.26 | G91: =(E91*F91) -> 307.8
A92: 12.7 | B92: 151801 | C92: Ponto padrão de luz no teto - considerando eletroduto PVC rígido de 3/4" inclusive conexões (4.5m), fio isolado PVC de 2.5mm2 (16.2m) e caixa estampada 4x4" (1 und) | D92: und | E92: =calculos!R531 -> 38 | F92: 160.63 | G92: =(E92*F92) -> 6103.94
A93: 12.8 | B93: 151802 | C93: Ponto padrão de luz na parede - considerando eletroduto PVC rígido de 3/4" inclusive conexões (4.5m), fio isolado PVC de 2.5mm2 (16.2m) e caixa estampada 4x4" (1 und) | D93: und | E93: =calculos!R537 -> 2 | F93: 142.33 | G93: =(E93*F93) -> 284.66
A94: 12.9 | B94: 151803 | C94: Ponto padrão de tomada 2 pólos mais terra - considerando eletroduto PVC rígido de 3/4" inclusive conexões (5.0m), fio isolado PVC de 2.5mm2 (16.5m) e caixa estampada 4x2" (1 und) (PARA BOMBA DE ÁGUA) | D94: und | E94: =calculos!R543 -> 23 | F94: 164.37 | G94: =(E94*F94) -> 3780.51
A95: 12.10 | B95: 151807 | C95: Ponto padrão de ventilador no teto - considerando eletroduto PVC rígido de 3/4" inclusive conexões (4.5m), fio isolado PVC de 2.5mm2 (21.6m) e caixa estampada 4x4" (1 und) | D95: und | E95: =calculos!R549 -> 23 | F95: 187.82 | G95: =(E95*F95) -> 4319.86
A96: 12.11 | B96: 151811 | C96: Ponto padrão de interruptor de 1 tecla simples e 1 tomada dois pólos mais terra 10A/250V - considerando eletroduto PVC rígido de 3/4" inclusive conexões (4.5m), fio isolado PVC de 2.5mm2 (19.4m) e caixa estampada 4x2" (1 und) | D96: und | E96: =calculos!R556 -> 11 | F96: 171.68 | G96: =(E96*F96) -> 1888.48
A97: 12.12 | B97: 151815 | C97: Ponto padrão de interruptor para ventilador - considerando eletroduto PVC rígido de 3/4" inclusive conexões (3.3m), fio isolado PVC de 2.5mm2 (12.0m) e caixa estampada 4x2" (1 und) | D97: und | E97: =calculos!R562 -> 23 | F97: 117.68 | G97: =(E97*F97) -> 2706.64
A98: 12.13 | B98: 160303 | C98: Aterramento com haste terra 5/8" x 2.40, cabo de cobre nu 6mm2, inclusive caixa de concreto 30 x 30 cm | D98: und | E98: =calculos!R568 -> 2 | F98: 309.8 | G98: =(E98*F98) -> 619.6
A99: 12.14 | B99: 180102 | C99: Luminária p/ duas lâmpadas fluorescentes 40W, completa, c/ reator duplo-127V partida rápida e alto fator de potência, soquete antivibratório e lâmpada fluorescente 40W-127V | D99: und | E99: =calculos!R574 -> 38 | F99: 111.68 | G99: =(E99*F99) -> 4243.84
A100: 12.15 | B100: 180110 | C100: Arandela com lâmpada incandescente de 100W | D100: und | E100: =calculos!R580 -> 2 | F100: 93.29 | G100: =(E100*F100) -> 186.58
A101: 12.16 | B101: 180702 | C101: Ventilador de teto base madeira sem alojamento para luminária, ref. Tron ou equivalente, com comando de interruptor simples, sem dimer para regulagem de velocidade | D101: und | E101: =calculos!R590 -> 23 | F101: 204.44 | G101: =(E101*F101) -> 4702.12
A102: SUB - TOTAL | G102: =SUM(G86:G101) -> 30860.03
A103: 13 | C103: INSTALAÇÃO HIDRO SANITÁRIA
A104: 13.1 | B104: 140701 | C104: Ponto de água fria (lavatório, tanque, pia de cozinha, etc...) | D104: pt | E104: =calculos!R597 -> 9 | F104: 76.22 | G104: =(E104*F104) -> 685.98
...

Sheet calculos
A1: MEMÓRIA DE CÁLCULO
A3: PREFEITURA MUNICIPAL DE SÃO DOMINGOS DO NORTE
A4: Rod. Gether Lopes de Farias, s/nº - Bairro Emílio Callegari São Domingos do Norte - ES - CEP 29745-000
A5: Telefax: (027) 3742 1219 - telefone (027) 742 1266 / 1216 / 1188
A6: CNPJ 36.350.312/0001-72
A8: REFORMA
A9: ITEM | B9: DESCRIÇÃO | R9: TOTAL DO ITEM
A11: 1.0 | B11: SERVIÇOS PRELIMINARES
A12: 1.1 | B12: Retirada de revestimento antigo e reboco | P12: m² | R12: =I19-M19 -> 124.765
D13: x | E13: y | F13: z | G13: w | H13: QUANT. | I13: TOTAL | J13: vãos à descontar | M13: TOTAL | N13: INFORMAÇÕES COMPLEMENTARES
D14: COMP. | E14: LARG. | F14: ALTURA | G14: (%) | J14: COMP. | K14: ALT. | L14: QUANT.
B15: SALA DE AULA | D15: 24.6 | F15: 2 | I15: =D15*F15 -> 49.2
B16: REFEITORIO | D16: 10.34 | F16: 2 | I16: =D16*F16 -> 20.68
B17: COZINHA | D17: 15.59 | F17: 1.5 | I17: =D17*F17 -> 23.385
B18: PER. EXTERNO | D18: 31.5 | F18: 1 | I18: =D18*F18 -> 31.5
I19: =SUM(I15:I18) -> 124.765
A21: 1.2 | B21: Lixamento de parede com pintura antiga PVA para recebimento de nova camada de tinta | P21: m² | R21: =I28-M28 -> 217.2255
D22: x | E22: y | F22: z | G22: w | H22: QUANT. | I22: TOTAL | J22: vãos à descontar | M22: TOTAL | N22: INFORMAÇÕES COMPLEMENTARES
D23: COMP. | E23: LARG. | F23: ALTURA | G23: (%) | J23: COMP. | K23: ALT. | L23: QUANT.
B24: SALA DE AULA | D24: 24.6 | F24: 2.85 | I24: =D24*F24 -> 70.11 | J24: 1.18 | K24: 1.5 | L24: 4 | M24: =J24*K24*L24 -> 7.08
B25: REFEITORIO | D25: 10.34 | F25: 2.85 | I25: =D25*F25 -> 29.469 | M25: =J25*K25*L25 -> 0
B26: COZINHA | D26: 15.59 | F26: 2.85 | I26: =D26*F26 -> 44.4315 | J26: 0.8 | K26: 1.5 | L26: 2 | M26: =J26*K26*L26 -> 2.4
B27: PER. EXTERNO | D27: 31.5 | F27: 2.85 | I27: =D27*F27 -> 89.775 | J27: 1.18 | K27: 1.5 | L27: 4 | M27: =J27*K27*L27 -> 7.08
I28: =SUM(I24:I27) -> 233.7855 | M28: =SUM(M24:M27) -> 16.56
A30: 1.3 | B30: Retirada de caixas/quadros elétricos | P30: UND | R30: =I34-M34 -> 1
D31: x | E31: y | F31: z | G31: w | H31: QUANT. | I31: TOTAL | J31: vãos à descontar | M31: TOTAL | N31: INFORMAÇÕES COMPLEMENTARES
D32: COMP. | E32: LARG. | F32: ALTURA | G32: (%) | J32: COMP. | K32: ALT. | L32: QUANT.
H33: 1 | I33: =H33 -> 1 | M33: 0
I34: =SUM(I33) -> 1 | M34: 0
A37: 1.4 | B37: Retirada de pontos elétricos (luminárias, interruptores e tomadas) | P37: PONTO | R37: =I41-M41 -> 18
D38: x | E38: y | F38: z | G38: w | H38: QUANT. | I38: TOTAL | J38: vãos à descontar | M38: TOTAL | N38: INFORMAÇÕES COMPLEMENTARES
D39: COMP. | E39: LARG. | F39: ALTURA | G39: (%) | J39: COMP. | K39: ALT. | L39: QUANT.
H40: 18 | I40: =H40 -> 18 | M40: 0
I41: =SUM(I40) -> 18 | M41: 0
A43: 1.5 | B43: Remoção de pintura antiga a óleo ou esmalte | P43: m² | R43: =I50-M50 -> 83.7315
D44: x | E44: y | F44: z | G44: w | H44: QUANT. | I44: TOTAL | J44: vãos à descontar | M44: TOTAL | N44: INFORMAÇÕES COMPLEMENTARES
D45: PER. | E45: LARG. | F45: ALTURA | G45: (%) | J45: COMP. | K45: ALT. | L45: QUANT.
B46: SALA DE AULA | D46: 24.6 | F46: 1.05 | I46: =D46*F46 -> 25.83 | M46: =J46*K46*L46 -> 0
B47: REFEITORIO | D47: 10.34 | F47: 1.05 | I47: =D47*F47 -> 10.857 | M47: =J47*K47*L47 -> 0
B48: COZINHA | D48: 15.59 | F48: 1.05 | I48: =D48*F48 -> 16.3695 | J48: 0.8 | K48: 1.5 | L48: 2 | M48: =J48*K48*L48 -> 2.4
B49: PER. EXTERNO | D49: 31.5 | F49: 1.05 | I49: =D49*F49 -> 33.075 | M49: =J49*K49*L49 -> 0
I50: =SUM(I46:I49) -> 86.1315 | M50: =SUM(M46:M49) -> 2.4
A52: 1.6 | B52: Remoção de forro em eucatex, sem aproveitamento do material | P52: m² | R52: =I60-M60 -> 72.396
D53: x | E53: y | F53: z | G53: w | H53: QUANT. | I53: TOTAL | J53: vãos à descontar | M53: TOTAL | N53: INFORMAÇÕES COMPLEMENTARES
D54: COMP. | E54: LARG. | F54: ALTURA | G54: (%) | J54: COMP. | K54: ALT. | L54: QUANT.
B55: SALA | D55: 5 | E55: 7.3 | I55: =D55*E55 -> 36.5
B56: SALA DE RECURSOS | D56: 1.9 | E56: 3.44 | I56: =D56*E56 -> 6.536
B57: SALA | D57: 5 | E57: 4.36 | I57: =D57*E57 -> 21.8
B58: REFEITORIO | I58: =D58*E58 -> 0
B59: COZINHA | D59: 2.52 | E59: 3 | I59: =D59*E59 -> 7.56
I60: =SUM(I55:I59) -> 72.396 | M60: 0
A62: 1.7 | B62: Demolição de alvenaria | P62: m² | R62: =I69-M69 -> 8.7255
D63: x | E63: y | F63: z | G63: w | H63: QUANT. | I63: TOTAL | J63: vãos à descontar | M63: TOTAL | N63: INFORMAÇÕES COMPLEMENTARES
D64: COMP. | E64: LARG. | F64: ALTURA | G64: (%) | J64: COMP. | K64: ALT. | L64: QUANT.
B65: Banheiros | D65: =2.12+2.15+2.15+2.12 -> 8.54 | E65: 0.15 | F65: 3 | I65: =D65*E65*F65 -> 3.843 | J65: 0.6 | K65: 2.1 | L65: 2 | M65: =J65*K65*L65 -> 2.52
B66: Cozinha | D66: =2.8+3.27+2.8+3.27 -> 12.14 | E66: 0.15 | F66: 3 | I66: =D66*E66*F66 -> 5.463 | J66: 0.8 | K66: 2.1 | L66: 1 | M66: =J66*K66*L66 -> 1.68
B67: Corredor | D67: =0.82+2.38 -> 3.2 | E67: 0.15 | F67: 3 | I67: =D67*E67*F67 -> 1.44
B68: Sala dos professores | D68: =2.06+3.75+0.9 -> 6.71 | E68: 0.15 | F68: 3 | I68: =D68*E68*F68 -> 3.0195
I69: =SUM(I65:I68) -> 13.7655 | M69: 5.04
A73: 1.8 | B73: Retirada de estrutura em madeira do telhado | P73: m² | R73: =I77-M77 -> 133.97
D74: x | E74: y | F74: z | G74: w | H74: QUANT. | I74: TOTAL | J74: vãos à descontar | M74: TOTAL | N74: INFORMAÇÕES COMPLEMENTARES
D75: ÁREA | J75: COMP. | K75: ALT. | L75: QUANT.
D76: 133.97 | I76: =D76 -> 133.97
I77: =SUM(I76) -> 133.97 | M77: 0
A79: 1.9 | B79: Remoção de telhas cerâmicas, tipo colonial, inclusive cumeeiras | P79: m² | R79: =I83-M83 -> 133.97
D80: x | E80: y | F80: z | G80: w | H80: QUANT. | I80: TOTAL | J80: vãos à descontar | M80: TOTAL | N80: INFORMAÇÕES COMPLEMENTARES
D81: ÁREA | J81: COMP. | K81: ALT. | L81: QUANT.
D82: 133.97 | I82: =D82 -> 133.97
I83: =SUM(I82) -> 133.97 | M83: 0
A85: 1.10 | B85: Retirada de marco de madeira | P85: m | R85: =I90-M90 -> 24.6
D86: x | E86: y | F86: z | G86: w | H86: QUANT. | I86: TOTAL | J86: vãos à descontar | M86: TOTAL | N86: INFORMAÇÕES COMPLEMENTARES
D87: COMP. | E87: LARG. | F87: ALTURA | G87: (%) | J87: COMP. | K87: ALT. | L87: QUANT.
B88: PORTA DE 0,8X2,10 | D88: 5 | H88: 3 | I88: =D88*H88 -> 15
B89: PORTA DE 0,6X2,10 | D89: 4.8 | H89: 2 | I89: =D89*H89 -> 9.6
I90: =SUM(I88:I89) -> 24.6 | M90: 0
A92: 1.11 | B92: =PLANILHA!C25 -> Retirada de aparelhos sanitários | P92: und | R92: =I96-M96 -> 4
D93: x | E93: y | F93: z | G93: w | H93: QUANT. | I93: TOTAL | J93: vãos à descontar | M93: TOTAL | N93: INFORMAÇÕES COMPLEMENTARES
D94: COMP. | E94: LARG. | F94: ALTURA | G94: (%) | J94: COMP. | K94: ALT. | L94: QUANT.
H95: 4 | I95: =H95 -> 4
I96: =SUM(I95) -> 4 | M96: 0
A98: 1.12 | B98: =PLANILHA!C26 -> Retirada de bancada de pia | P98: m² | R98: =I102-M102 -> 1.2
D99: x | E99: y | F99: z | G99: w | H99: QUANT. | I99: TOTAL | J99: vãos à descontar | M99: TOTAL | N99: INFORMAÇÕES COMPLEMENTARES
D100: COMP. | E100: LARG. | F100: ALTURA | G100: (%) | J100: COMP. | K100: ALT. | L100: QUANT.
B101: Pia cozinha | D101: 0.6 | E101: 2 | I101: =D101*E101 -> 1.2
I102: =SUM(I101) -> 1.2 | M102: 0
A104: 1.13 | B104: =PLANILHA!C27 -> Retirada de tanque de cimento | P104: und | R104: =I108-M108 -> 1
D105: x | E105: y | F105: z | G105: w | H105: QUANT. | I105: TOTAL | J105: vãos à descontar | M105: TOTAL | N105: INFORMAÇÕES COMPLEMENTARES
D106: COMP. | E106: LARG. | F106: ALTURA | G106: (%) | J106: COMP. | K106: ALT. | L106: QUANT.
H107: 1 | I107: =H107 -> 1
I108: =SUM(I107) -> 1 | M108: 0
A109: 1.14 | B109: =PLANILHA!C28 -> Retirada de torneiras e registros | P109: und | R109: =I113-M113 -> 7
D110: x | E110: y | F110: z | G110: w | H110: QUANT. | I110: TOTAL | J110: vãos à descontar | M110: TOTAL | N110: INFORMAÇÕES COMPLEMENTARES
D111: COMP. | E111: LARG. | F111: ALTURA | G111: (%) | J111: COMP. | K111: ALT. | L111: QUANT.
H112: 7 | I112: =H112 -> 7
I113: =SUM(I112) -> 7 | M113: 0
A115: 1.15 | B115: =PLANILHA!C29 -> Retirada de portas e janelas de madeira, inclusive batentes | P115: m² | R115: =I121-M121 -> 17.76
D116: x | E116: y | F116: z | G116: w | H116: QUANT. | I116: TOTAL | J116: vãos à descontar | M116: TOTAL | N116: INFORMAÇÕES COMPLEMENTARES
G117: (%) | J117: COMP. | K117: ALT. | L117: QUANT.
D118: 1.7 | F118: 1.2 | H118: 5 | I118: =D118*F118*H118 -> 10.2
D119: 0.6 | F119: 2.1 | H119: 2 | I119: =D119*F119*H119 -> 2.52
...

Sheet Cron 
A1: PREFEITURA MUNICIPAL DE SÃO DOMINGOS DO NORTE Rod. Gether Lopes de Farias, s/nº - Bairro Emílio Callegari São Domingos do Norte - ES - CEP 29745-000 Telefax: (027) 742 1219 - telefone (027) 742 1266 / 1216 / 1188 CNPJ 36.350.312/0001-72 CRONOGRAMA FISICO - FINANCEIRO
A10: PROJETO: "E.U.M" SÃO FRANCISQUINHO
A11: ITEM | B11: DESCRIÇÃO DOS SERVIÇOS | C11: TOTAIS | D11: MÊS 01 | F11: MÊS 02 | H11: MÊS 03 | J11: MÊS 04 | L11: MÊS 05 | N11: MÊS 06 | P11: MÊS 07 | R11: MÊS 08 | T11: MÊS 09 | V11: MÊS 10
D12: V. MENSAL | E12: PORC. | F12: V. MENSAL | G12: PORC. | H12: V. MENSAL | I12: PORC. | J12: V. MENSAL | K12: PORC. | L12: V. MENSAL | M12: PORC. | N12: V. MENSAL | O12: PORC. | P12: V. MENSAL | Q12: PORC. | R12: V. MENSAL | S12: PORC. | T12: V. MENSAL | U12: PORC. | V12: V. MENSAL | W12: PORC.
A13: 1 | B13: =PLANILHA!C14 -> DEMOLIÇÕES E RETIRADAS | C13: =PLANILHA!G33 -> 10225.145 | D13: =C13/5 -> 2045.029 | E13: =D13/C13 -> 0.2 | H13: =D13 -> 2045.029 | I13: =E13 -> 0.2 | L13: =H13 -> 2045.029 | M13: =I13 -> 0.2 | R13: =L13 -> 2045.029 | S13: =M13 -> 0.2 | V13: =R13 -> 2045.029 | W13: =S13 -> 0.2
A14: 2 | B14: =PLANILHA!C34 -> LIMPEZA DO TERRENO | C14: =PLANILHA!G36 -> 626.4 | D14: =C14*100% -> 626.4 | E14: =D14/C14 -> 1
A15: 3 | B15: =PLANILHA!C37 -> LOCAÇÃO | C15: =PLANILHA!G39 -> 3416.4 | D15: =C15*100% -> 3416.4 | E15: =D15/C15 -> 1
A16: 4 | B16: =PLANILHA!C40 -> INSTALAÇÃO CANTEIRO DE OBRAS | C16: =PLANILHA!G44 -> 10590.76 | D16: =C16*100% -> 10590.76 | E16: =D16/C16 -> 1
A17: 5 | B17: =PLANILHA!C45 -> MOVIMENTAÇÃO DE TERRA | C17: =PLANILHA!G49 -> 9580.6255 | D17: =C17*30% -> 2874.1877 | E17: =D17/C17 -> 0.3 | F17: =C17*50% -> 4790.3128 | G17: =F17/C17 -> 0.5 | H17: =C17*20% -> 1916.1251 | I17: =H17/C17 -> 0.2
A18: 6 | B18: =PLANILHA!C50 -> FUNDAÇÃO E ESTRUTURA | C18: =PLANILHA!G59 -> 73477.048 | D18: =C18*30% -> 22043.114 | E18: =D18/C18 -> 0.3 | F18: =C18*30% -> 22043.114 | G18: =F18/C18 -> 0.3 | H18: =C18*20% -> 14695.41 | I18: =H18/C18 -> 0.2 | J18: =C18*20% -> 14695.41 | K18: =J18/C18 -> 0.2
A19: 7 | B19: =PLANILHA!C60 -> ALVENARIA | C19: =PLANILHA!G62 -> 15876.091 | H19: =C19*40% -> 6350.4365 | I19: =H19/C19 -> 0.4 | J19: =C19*40% -> 6350.4365 | K19: =J19/C19 -> 0.4 | L19: =C19*20% -> 3175.2182 | M19: =L19/C19 -> 0.2
A20: 8 | B20: =PLANILHA!C63 -> COBERTURA | C20: =PLANILHA!G68 -> 73571.779 | N20: =C20*50% -> 36785.89 | O20: =N20/C20 -> 0.5 | P20: =C20*50% -> 36785.89 | Q20: =P20/C20 -> 0.5
A21: 9 | B21: =PLANILHA!C69 -> TETOS E FORRO | C21: =PLANILHA!G71 -> 10856.788 | V21: =C21*100% -> 10856.788 | W21: =V21/C21 -> 1
A22: 10 | B22: =PLANILHA!C72 -> REVESTIMENTO DE PAREDES E TETOS | C22: =PLANILHA!G77 -> 66527.043 | N22: =C22*30% -> 19958.113 | O22: =N22/C22 -> 0.3 | P22: =C22*30% -> 19958.113 | Q22: =P22/C22 -> 0.3 | R22: =C22*30% -> 19958.113 | S22: =R22/C22 -> 0.3 | T22: =C22*10% -> 6652.7043 | U22: =T22/C22 -> 0.1
A23: 11 | B23: =PLANILHA!C78 -> REVESTIMENTO DE PISO | C23: =PLANILHA!G84 -> 19426.403 | R23: =C23*40% -> 7770.5613 | S23: =R23/C23 -> 0.4 | T23: =C23*50% -> 9713.2016 | U23: =T23/C23 -> 0.5 | V23: =C23*10% -> 1942.6403 | W23: =V23/C23 -> 0.1
A24: 12 | B24: =PLANILHA!C85 -> INSTALAÇÃO ELÉTRICA | C24: =PLANILHA!G102 -> 30860.03 | J24: =C24*10% -> 3086.003 | K24: =J24/C24 -> 0.1 | L24: =C24*10% -> 3086.003 | M24: =L24/C24 -> 0.1 | N24: =C24*20% -> 6172.006 | O24: =N24/C24 -> 0.2 | P24: =C24*20% -> 6172.006 | Q24: =P24/C24 -> 0.2 | R24: =C24*20% -> 6172.006 | S24: =R24/C24 -> 0.2 | T24: =C24*10% -> 3086.003 | U24: =T24/C24 -> 0.1 | V24: =C24*10% -> 3086.003 | W24: =V24/C24 -> 0.1
A25: 13 | B25: =PLANILHA!C103 -> INSTALAÇÃO HIDRO SANITÁRIA | C25: =PLANILHA!G137 -> 18581.554 | J25: =C25*10% -> 1858.1554 | K25: =J25/C25 -> 0.1 | L25: =C25*10% -> 1858.1554 | M25: =L25/C25 -> 0.1 | N25: =C25*20% -> 3716.3108 | O25: =N25/C25 -> 0.2 | P25: =C25*20% -> 3716.3108 | Q25: =P25/C25 -> 0.2 | R25: =C25*20% -> 3716.3108 | S25: =R25/C25 -> 0.2 | T25: =C25*10% -> 1858.1554 | U25: =T25/C25 -> 0.1 | V25: =C25*10% -> 1858.1554 | W25: =V25/C25 -> 0.1
A26: 14 | B26: =PLANILHA!C138 -> ESQUADRIAS DE MADEIRA | C26: =PLANILHA!G141 -> 10738.2 | N26: =C26*20% -> 2147.64 | O26: =N26/C26 -> 0.2 | P26: =C26*20% -> 2147.64 | Q26: =P26/C26 -> 0.2 | R26: =C26*20% -> 2147.64 | S26: =R26/C26 -> 0.2 | T26: =C26*20% -> 2147.64 | U26: =T26/C26 -> 0.2 | V26: =C26*20% -> 2147.64 | W26: =V26/C26 -> 0.2
A27: 15 | B27: =PLANILHA!C142 -> ESQUADRIAS METALICAS | C27: =PLANILHA!G148 -> 29944.243 | N27: =C27*30% -> 8983.2728 | O27: =N27/C27 -> 0.3 | P27: =C27*30% -> 8983.2728 | Q27: =P27/C27 -> 0.3 | R27: =C27*20% -> 5988.8485 | S27: =R27/C27 -> 0.2 | T27: =C27*20% -> 5988.8485 | U27: =T27/C27 -> 0.2
A28: 16 | B28: =PLANILHA!C149 -> IMPERMEABILIZAÇÃO CALHAS, LAJES DESCOBERTAS, BALDRAMES, PAREDES E JARDINEIRAS | C28: =PLANILHA!G151 -> 7459.452 | J28: =C28*100% -> 7459.452 | K28: =J28/C28 -> 1
A29: 17 | B29: =PLANILHA!C152 -> PINTURA | C29: =PLANILHA!G158 -> 28732.678 | N29: =C29*20% -> 5746.5356 | O29: =N29/C29 -> 0.2 | P29: =C29*20% -> 5746.5356 | Q29: =P29/C29 -> 0.2 | R29: =C29*20% -> 5746.5356 | S29: =R29/C29 -> 0.2 | T29: =C29*20% -> 5746.5356 | U29: =T29/C29 -> 0.2 | V29: =C29*20% -> 5746.5356 | W29: =V29/C29 -> 0.2
A30: 18 | B30: =PLANILHA!C159 -> SERVIÇOS COMPLEMENTARES | C30: =PLANILHA!G161 -> 1465.2206 | T30: =C30*100% -> 1465.2206 | U30: =T30/C30 -> 1
A31: 19 | B31: =PLANILHA!C162 -> VIDROS PARA ESQUADRIAS | C31: =PLANILHA!G165 -> 3145.41 | T31: =C31*100% -> 3145.41 | U31: =T31/C31 -> 1
A32: 20 | B32: =PLANILHA!C166 -> PLACAS E PAINÉIS DIVISÓRIOS | C32: =PLANILHA!G168 -> 7760.025 | R32: =C32*50% -> 3880.0125 | S32: =R32/C32 -> 0.5 | T32: =C32*50% -> 3880.0125 | U32: =T32/C32 -> 0.5
A33: 21 | B33: =PLANILHA!C169 -> PAVIMENTAÇÃO | C33: =PLANILHA!G171 -> 4481.256 | T33: =C33*100% -> 4481.256 | U33: =T33/C33 -> 1
A34: 22 | B34: =PLANILHA!C172 -> DIVERSOS INTERNOS | C34: =PLANILHA!G179 -> 20782.4 | R34: =C34*40% -> 8312.9599 | S34: =R34/C34 -> 0.4 | T34: =C34*30% -> 6234.72 | U34: =T34/C34 -> 0.3 | V34: =C34*30% -> 6234.72 | W34: =V34/C34 -> 0.3
A35: 23 | B35: =PLANILHA!C180 -> TRATAMENTO, CONSERVAÇÃO E LIMPEZA | C35: =PLANILHA!G182 -> 3206.7161 | R35: =C35*40% -> 1282.6864 | S35: =R35/C35 -> 0.4 | T35: =C35*30% -> 962.01483 | U35: =T35/C35 -> 0.3 | V35: =C35*30% -> 962.01483 | W35: =V35/C35 -> 0.3
A37: PARCIAIS | C37: =SUM(C13:C35) -> 461331.67 | D37: =SUM(D13:D34) -> 41595.891 | E37: =D37/$C$37 -> 0.090164829 | F37: =SUM(F13:F34) -> 26833.427 | G37: =F37/$C$37 -> 0.058165153 | H37: =SUM(H13:H34) -> 25007 | I37: =H37/$C$37 -> 0.054206121 | J37: =SUM(J13:J34) -> 33449.456 | K37: =J37/$C$37 -> 0.072506309 | L37: =SUM(L13:L34) -> 10164.406 | M37: =L37/$C$37 -> 0.022032751 | N37: =SUM(N13:N34) -> 83509.768 | O37: =N37/$C$37 -> 0.18101894 | P37: =SUM(P13:P34) -> 83509.768 | Q37: =P37/$C$37 -> 0.18101894 | R37: =SUM(R13:R35) -> 67020.703 | S37: =R37/$C$37 -> 0.14527661 | T37: =SUM(T13:T35) -> 55361.722 | U37: =T37/$C$37 -> 0.12000417 | V37: =SUM(V13:V35) -> 34879.527 | W37: =V37/$C$37 -> 0.075606183
A38: TOTAIS ACUMULADO | D38: =D37 -> 41595.891 | E38: =E37 -> 0.090164829 | F38: =F37+D38 -> 68429.318 | G38: =E38+G37 -> 0.14832998 | H38: =H37+F38 -> 93436.318 | I38: =G38+I37 -> 0.2025361 | J38: =H38+J37 -> 126885.77 | K38: =I38+K37 -> 0.27504241 | L38: =J38+L37 -> 137050.18 | M38: =K38+M37 -> 0.29707516 | N38: =L38+N37 -> 220559.95 | O38: =M38+O37 -> 0.4780941 | P38: =N38+P37 -> 304069.72 | ... W38: =U38+W37 -> 1
