Workbook

Sheet PLANILHA 
A4: PREFEITURA MUNICIPAL DE SÃO DOMINGOS DO NORTE
A5: Rod. Gether Lopes de Farias, s/nº - Bairro Emílio Callegari São Domingos do Norte - ES - CEP 29745-000
A6: Telefax: (027) 3742 1219 - telefone (027) 742 1266 / 1216 / 1188
A7: CNPJ 36.350.312/0001-72
A9: PLANILHA ORÇAMENTÁRIA
D10: REF. CUSTOS: IOPES 09/2017
A11: DATA: SETEMBRO DE 2017 | F11: BDI 30,9% | G11: LS 128,33%
A12: ÍTEM | B12: CÓD. | C12: ESPECIFICAÇÃO DO SERVIÇO | D12: UND | E12: QUANT | F12: VALOR UNIT. | G12: VALOR TOTAL
A13: 1.0 | C13: SERVIÇOS PRELIMINARES
A14: 1.1 | B14: 010208 | C14: Retirada de revestimento antigo em reboco | D14: m² | E14: ='CALCULOS '!R11 -> 100 | F14: 7.89 | G14: =F14*E14 -> 789
A15: 1.2 | B15: 010218 | C15: Remoção de pintura antiga a óleo ou esmalte | D15: m² | E15: ='CALCULOS '!R16 -> 682.95 | F15: 10.64 | G15: =F15*E15 -> 7266.588
A16: 1.3 | B16: 010228 | C16: Demolição de forro de madeira, sem reaproveitamento | D16: m² | E16: ='CALCULOS '!R21 -> 319.29 | F16: 5.35 | G16: =F16*E16 -> 1708.2015
A17: 1.4 | B17: 010325 | C17: Demolição de estrutura de madeira para telhado | D17: m² | E17: ='CALCULOS '!R35 -> 707.88 | F17: 23.21 | G17: =F17*E17 -> 16429.895
A18: 1.5 | B18: 010255 | C18: Remoção de telhas cerâmicas, tipo colonial, inclusive cumeeiras | D18: m² | E18: ='CALCULOS '!R45 -> 707.88 | F18: 18.98 | G18: =F18*E18 -> 13435.562
A19: 1.6 | B19: 010240 | C19: Retirada de pontos elétricos (luminárias, interruptores e tomadas) | D19: und | E19: ='CALCULOS '!R55 -> 150 | F19: 8.72 | G19: =F19*E19 -> 1308
A20: 1.7 | B20: 010271 | C20: Retirada de caixas/quadros elétricos | D20: und | E20: ='CALCULOS '!R61 -> 1 | F20: 11.75 | G20: =F20*E20 -> 11.75
A21: 1.8 | B21: 010214 | C21: Retirada de portas e janelas de madeira, inclusive batentes | D21: m² | E21: ='CALCULOS '!R66 -> 26.73 | F21: 12.63 | G21: =F21*E21 -> 337.5999
A22: 1.9 | B22: 010246 | C22: Lixamento de parede com pintura antiga PVA para recebimento de nova camada de tinta | D22: m² | E22: ='CALCULOS '!R72 -> 1585.16 | F22: 2.93 | G22: =F22*E22 -> 4644.5188
A23: SUB-TOTAL | G23: =SUM(G14:G22) -> 45931.115
A25: 2 | C25: INSTALAÇÃO DO CANTEIRO DE OBRAS
A26: 2.1 | B26: 080102 | C26: Placa de obra nas dimensões de 2.0 x 4.0 m, padrão IOPES | D26: m2 | E26: 8 | F26: 203.12 | G26: =F26*E26 -> 1624.96
A27: SUB-TOTAL | G27: =SUM(G26) -> 1624.96
A29: 3 | C29: ESQUADRIAS
A30: 3.1 | B30: 080102 | C30: Vidro plano transparente liso, com 4 mm de espessura | D30: m2 | E30: ='CALCULOS '!R107 -> 4 | F30: 103.83 | G30: =F30*E30 -> 415.32
A31: 3.2 | B31: 061902 | C31: Porta em madeira de Lei tipo Angelim Pedra ou equiv. c/ enchimento em madeira de 1ª qualidade esp. 30mm, com visor de vidro, inclusive alizares, dobradiças e fechaduras externas em latão cromado La Fonte/equiv. exclusive marco, nas dimensões: 0.80 x 2.10 m | D31: und | E31: ='CALCULOS '!R112 -> 14 | F31: 1133.71 | G31: =F31*E31 -> 15871.94
A32: 3.3 | B32: 061901 | C32: Porta em madeira de Lei tipo Angelim Pedra ou equiv. c/ enchimento em madeira de 1ª qualidade esp. 30mm, com visor de vidro, inclusive alizares, dobradiças e fechaduras externas em latão cromado La Fonte/equiv. exclusive marco, nas dimensões: 0.70 x 2.10 m | D32: und | E32: ='CALCULOS '!R117 -> 4 | F32: 1083.11 | G32: =F32*E32 -> 4332.44
A33: SUB-TOTAL | G33: =SUM(G30:G32) -> 20619.7
A35: 4 | C35: COBERTURA
A36: 4.1 | B36: 72110 | C36: Estrutura metalica em tesouras ou trelicas, vao livre de 12m, fornecimento e montagem, nao sendo considerados os fechamentos metalicos, as colunas, os servicos gerais em alvenaria e concreto, as telhas de cobertura e a pintura de acabamento | D36: m² | E36: ='CALCULOS '!R123 -> 168.36 | F36: =57.37*1.309 -> 75.09733 | G36: =F36*E36 -> 12643.386
A37: 4.2 | B37: 72111 | C37: Estrutura metalica em tesouras ou trelicas, vao livre de 15m, fornecimento e montagem, nao sendo considerados os fechamentos metalicos, as colunas, os servicos gerais em alvenaria e concreto, as telhas de cobertura e a pintura de acabamento | D37: m² | E37: ='CALCULOS '!R131 -> 48.99 | F37: =62.54*1.309 -> 81.86486 | G37: =F37*E37 -> 4010.5595
A38: 4.3 | B38: 72112 | C38: Estrutura metalica em tesouras ou trelicas, vao livre de 20m, fornecimento e montagem, nao sendo considerados os fechamentos metalicos, as colunas, os servicos gerais em alvenaria e concreto, as telhas de cobertura e a pintura de acabamento | D38: m² | E38: ='CALCULOS '!R136 -> 490.5325 | F38: =67.71*1.309 -> 88.63239 | G38: =F38*E38 -> 43477.068
A39: 4.4 | B39: 92580 | C39: Trama de aço composta por terças para telhados de até 2 águas para telha ondulada de fibrocimento, metálica, plástica ou termoacústica, inclusive uso transporte vertical | D39: m² | E39: ='CALCULOS '!R143 -> 707.88 | F39: =23.05*1.309 -> 30.17245 | G39: =F39*E39 -> 21358.474
A40: 4.5 | B40: 090220 | C40: Telha em aço galvanizado trapezoidal 40, e=0.50mm, pintura cor branca nas duas faces, inclusive acessório de fixação, ref. Stanto André, Eternit, Metform ou equivalente | D40: m² | E40: ='CALCULOS '!R153 -> 707.88 | F40: 63.72 | G40: =F40*E40 -> 45106.114
A41: 4.6 | B41: 190418 | C41: Pintura de superfície metálica com uma demão de primer Epoxi e duas demãos de tinta à base de Epoxi | D41: m² | E41: ='CALCULOS '!R163 -> 707.88 | F41: 30.51 | G41: =F41*E41 -> 21597.419
A42: SUB-TOTAL | G42: =SUM(G36:G41) -> 148193.02
A44: 5 | C44: RUFOS E CALHAS
A45: 5.1 | B45: 90302 | C45: Rufo de chapa metálica nº 26 com largura de 30 cm | D45: m | E45: ='CALCULOS '!R174 -> 30 | F45: 30.07 | G45: =F45*E45 -> 902.1
A46: 5.2 | B46: 90312 | C46: Calha em chapa galvanizada com largura de 40 cm | D46: m | E46: ='CALCULOS '!R181 -> 35.7 | F46: 108.11 | G46: =F46*E46 -> 3859.527
A47: SUB-TOTAL | G47: =SUM(G45:G46) -> 4761.627
A49: 6 | C49: TETOS E FORROS
...

Sheet PLANILHA 2
A4: PREFEITURA MUNICIPAL DE SÃO DOMINGOS DO NORTE
A5: Rod. Gether Lopes de Farias, s/nº - Bairro Emílio Callegari São Domingos do Norte - ES - CEP 29745-000
A6: Telefax: (027) 3742 1219 - telefone (027) 742 1266 / 1216 / 1188
A7: CNPJ 36.350.312/0001-72
A8: PLANILHA ORÇAMENTÁRIA
D9: REF. CUSTOS: IOPES 11/2016
A10: DATA: FEVEREIRO DE 2017 | F10: BDI 30,9% | G10: LS 128,33%
A11: ÍTEM | C11: ESPECIFICAÇÃO DO SERVIÇO | D11: UND | E11: QNT | F11: VALOR UNIT. | G11: VALOR TOTAL
A12: 1.0 | B12: 01 | C12: SERVIÇOS PRELIMINARES
A13: 1.1 | B13: 10214 | C13: Retirada de portas e janelas de madeira, inclusive batentes | D13: m² | E13: 10 | F13: 12.17 | G13: =E13*F13 -> 121.7
A14: 1.2 | B14: 10218 | C14: Remoção de pintura antiga a óleo ou esmalte | D14: m² | E14: 450.2 | F14: 10.58 | G14: =E14*F14 -> 4763.116
A15: 1.3 | B15: 10246 | C15: Lixamento de parede com pintura antiga PVA para recebimento de nova camada de tinta | D15: m² | E15: 705.18 | F15: 2.87 | G15: =E15*F15 -> 2023.8666
A16: 1.4 | B16: 10326 | C16: Retirada de estrutura em madeira do telhado | D16: m² | E16: 307.52 | F16: 22.34 | G16: =E16*F16 -> 6869.9968
A17: 1.5 | B17: 10327 | C17: Retirada de marco de madeira | D17: m² | E17: 1 | F17: 1.9 | G17: =E17*F17 -> 1.9
A18: 2.0 | B18: 06 | C18: ESQUADRIAS DE MADEIRA | G18: =SUM(G13:G17) -> 13780.579
A19: 2.1 | B19: 60103 | C19: Marco de madeira de lei de 1ª (Peroba, Ipê, Angelim Pedra ou equivalente) com 15x3 cm de batente, nas dimensões de 0.80 x 2.10 m | D19: und | E19: 1 | F19: 232.74 | G19: =E19*F19 -> 232.74
A20: 2.2 | B20: 61303 | C20: Porta em madeira de lei tipo angelim pedra ou equiv.c/enchimento em madeira 1a.qualidade esp. 30mm p/ pintura, inclusive alizares, dobradiças e fechadura externa em latão cromado LaFonte ou equiv., exclusive marco, nas dim.: 0.80 x 2.10 m | D20: und | E20: 10 | F20: 759.76 | G20: =E20*F20 -> 7597.6
A21: 3.0 | B21: 07 | C21: ESQUADRIAS METÁLICAS | G21: =SUM(G19:G20) -> 7830.34
A22: 3.1 | B22: 71104 | C22: Portão de ferro de abrir em barra chata, inclusive chumbamento | D22: m² | E22: 4.32 | F22: 396.46 | G22: =E22*F22 -> 1712.7072
A23: 3.2 | B23: 71105 | C23: Grade de ferro em barra chata, inclusive chumbamento | D23: m² | E23: 19.93 | F23: 231.43 | G23: =E23*F23 -> 4612.3999
A24: 4.0 | B24: 09 | C24: COBERTURA | G24: =SUM(G22:G23) -> 6325.1071
A25: 4.1 | B25: 90101 | C25: Estrutura de madeira de lei tipo Paraju, peroba mica, angelim pedra ou equivalente para telhado de telha cerâmica tipo capa e canal, com pontaletes, terças, caibros e ripas, inclusive tratamento com cupinicida, exclusive telhas | D25: m² | E25: 153.76 | F25: 165.93 | G25: =E25*F25 -> 25513.397
A26: 4.2 | B26: 90501 | C26: Recolocação de engradamento de madeira para telhado com telha cerâmica, com pontaletes, terças, caibros e ripas, exclusive fornecimento | D26: m² | E26: 153.76 | F26: 50.97 | G26: =E26*F26 -> 7837.1472
A27: 4.3 | B27: 90509 | C27: Remoção, lavagem com escova de aço e recolocação de telhas cerâmicas | D27: m² | E27: 307.52 | F27: 72.4 | G27: =E27*F27 -> 22264.448
A28: 5.0 | B28: 14 | C28: INSTALAÇÕES HIDRO-SANITÁRIAS | G28: =SUM(G25:G27) -> 55614.992
A29: 5.1 | B29: 140903 | C29: Tubo PVC rígido para esgoto no diâmetro de 100mm incluindo escavação e aterro com areia | D29: m | E29: 7.2 | F29: 44.81 | G29: =E29*F29 -> 322.632
A30: 6.0 | B30: 19 | C30: PINTURA | G30: =SUM(G29) -> 322.632
A31: 6.1 | B31: 190115 | C31: Pintura com tinta látex PVA, marcas de referência Suvinil, Coral ou Metalatex, inclusive selador, em paredes e forros, a duas demãos | D31: m² | E31: 705.18 | F31: 16.49 | G31: =E31*F31 -> 11628.418
A32: 6.2 | B32: 190116 | C32: Pintura com tinta esmalte sintético, marcas de referência Suvinil, Coral e Metalatex, inclusive selador acrílico, em paredes, a duas demãos | D32: m2 | E32: 450.2 | F32: 20.07 | G32: =E32*F32 -> 9035.514
A33: SUB-TOTAL | G33: =SUM(G31:G32) -> 20663.932
A34: TOTAL | G34: =G18+G21+G24+G28+G30+G33 -> 104537.58
A36: _______________________________________________
A37: Fernanda Ribon Rubin
A38: Engenheira Produção - Civil
A39: CREA – ES 012649/D

Sheet PLANILHA 3
A4: PREFEITURA MUNICIPAL DE SÃO DOMINGOS DO NORTE
A5: Rod. Gether Lopes de Farias, s/nº - Bairro Emílio Callegari São Domingos do Norte - ES - CEP 29745-000
A6: Telefax: (027) 3742 1219 - telefone (027) 742 1266 / 1216 / 1188
A7: CNPJ 36.350.312/0001-72
A8: PLANILHA ORÇAMENTÁRIA
D9: REF. CUSTOS: IOPES 11/2016
A10: DATA: FEVEREIRO DE 2017 | F10: BDI 30,9% | G10: LS 128,33%
A11: ÍTEM | C11: ESPECIFICAÇÃO DO SERVIÇO | D11: UND | E11: QNT | F11: VALOR UNIT. | G11: VALOR TOTAL
A12: 1.0 | B12: 01 | C12: SERVIÇOS PRELIMINARES
A13: 1.1 | B13: 10214 | C13: Retirada de portas e janelas de madeira, inclusive batentes | D13: m² | E13: 10 | F13: 12.17 | G13: =E13*F13 -> 121.7
A14: 1.2 | B14: 10218 | C14: Remoção de pintura antiga a óleo ou esmalte | D14: m² | E14: 450.2 | F14: 10.58 | G14: =E14*F14 -> 4763.116
A15: 1.3 | B15: 10246 | C15: Lixamento de parede com pintura antiga PVA para recebimento de nova camada de tinta | D15: m² | E15: 705.18 | F15: 2.87 | G15: =E15*F15 -> 2023.8666
A16: 1.4 | B16: 10326 | C16: Retirada de estrutura em madeira do telhado | D16: m² | E16: 307.52 | F16: 22.34 | G16: =E16*F16 -> 6869.9968
A17: 1.5 | B17: 10327 | C17: Retirada de marco de madeira | D17: m² | E17: 1 | F17: 1.9 | G17: =E17*F17 -> 1.9
A18: 2.0 | B18: 06 | C18: ESQUADRIAS DE MADEIRA | G18: =SUM(G13:G17) -> 13780.579
A19: 2.1 | B19: 60103 | C19: Marco de madeira de lei de 1ª (Peroba, Ipê, Angelim Pedra ou equivalente) com 15x3 cm de batente, nas dimensões de 0.80 x 2.10 m | D19: und | E19: 1 | F19: 232.74 | G19: =E19*F19 -> 232.74
A20: 2.2 | B20: 61303 | C20: Porta em madeira de lei tipo angelim pedra ou equiv.c/enchimento em madeira 1a.qualidade esp. 30mm p/ pintura, inclusive alizares, dobradiças e fechadura externa em latão cromado LaFonte ou equiv., exclusive marco, nas dim.: 0.80 x 2.10 m | D20: und | E20: 10 | F20: 759.76 | G20: =E20*F20 -> 7597.6
A21: 3.0 | B21: 07 | C21: ESQUADRIAS METÁLICAS | G21: =SUM(G19:G20) -> 7830.34
A22: 3.1 | B22: 71104 | C22: Portão de ferro de abrir em barra chata, inclusive chumbamento | D22: m² | E22: 4.32 | F22: 396.46 | G22: =E22*F22 -> 1712.7072
A23: 3.2 | B23: 71105 | C23: Grade de ferro em barra chata, inclusive chumbamento | D23: m² | E23: 19.93 | F23: 231.43 | G23: =E23*F23 -> 4612.3999
A24: 4.0 | B24: 09 | C24: COBERTURA | G24: =SUM(G22:G23) -> 6325.1071
A25: 4.1 | B25: 90101 | C25: Estrutura de madeira de lei tipo Paraju, peroba mica, angelim pedra ou equivalente para telhado de telha cerâmica tipo capa e canal, com pontaletes, terças, caibros e ripas, inclusive tratamento com cupinicida, exclusive telhas | D25: m² | E25: 153.76 | F25: 165.93 | G25: =E25*F25 -> 25513.397
A26: 4.2 | B26: 90501 | C26: Recolocação de engradamento de madeira para telhado com telha cerâmica, com pontaletes, terças, caibros e ripas, exclusive fornecimento | D26: m² | E26: 153.76 | F26: 50.97 | G26: =E26*F26 -> 7837.1472
A27: 4.3 | B27: 90509 | C27: Remoção, lavagem com escova de aço e recolocação de telhas cerâmicas | D27: m² | E27: 307.52 | F27: 72.4 | G27: =E27*F27 -> 22264.448
A28: 5.0 | B28: 14 | C28: INSTALAÇÕES HIDRO-SANITÁRIAS | G28: =SUM(G25:G27) -> 55614.992
A29: 5.1 | B29: 140903 | C29: Tubo PVC rígido para esgoto no diâmetro de 100mm incluindo escavação e aterro com areia | D29: m | E29: 7.2 | F29: 44.81 | G29: =E29*F29 -> 322.632
A30: 6.0 | B30: 19 | C30: PINTURA | G30: =SUM(G29) -> 322.632
A31: 6.1 | B31: 190115 | C31: Pintura com tinta látex PVA, marcas de referência Suvinil, Coral ou Metalatex, inclusive selador, em paredes e forros, a duas demãos | D31: m² | E31: 189.2 | F31: 16.49 | G31: =E31*F31 -> 3119.908
A32: 6.2 | B32: 190116 | C32: Pintura com tinta esmalte sintético, marcas de referência Suvinil, Coral e Metalatex, inclusive selador acrílico, em paredes, a duas demãos | D32: m2 | E32: 109.83 | F32: 20.07 | G32: =E32*F32 -> 2204.2881
A33: SUB-TOTAL | G33: =SUM(G31:G32) -> 5324.1961
A34: TOTAL | G34: =G18+G21+G24+G28+G30+G33 -> 89197.847
A36: _______________________________________________
A37: Fernanda Ribon Rubin
A38: Engenheira Produção - Civil
A39: CREA – ES 012649/D

Sheet CALCULOS 
A1: MEMÓRIA DE CÁLCULO
A3: PREFEITURA MUNICIPAL DE SÃO DOMINGOS DO NORTE
A4: Rod. Gether Lopes de Farias, s/nº - Bairro Emílio Callegari São Domingos do Norte - ES - CEP 29745-000
A5: Telefax: (027) 3742 1219 - telefone (027) 742 1266 / 1216 / 1188
A6: CNPJ 36.350.312/0001-72
A8: CONSTRUÇÃO
A9: ITEM | B9: DESCRIÇÃO | R9: TOTAL DO ITEM
A10: SERVIÇOS PRELIMINARES
A11: 1.1 | B11: ='PLANILHA '!C14 -> Retirada de revestimento antigo em reboco | P11: m² | R11: =I15-M15 -> 100
D12: x | E12: y | F12: z | G12: w | H12: QUANT. | J12: vãos à descontar | M12: TOTAL | N12: INFORMAÇÕES COMPLEMENTARES
D13: ÁREA | E13: LARG. | F13: ALTURA | G13: (%) | J13: COMP. | K13: ALT. | L13: QUANT.
D14: 100 | I14: =D14 -> 100 | M14: =J14*K14*L14 -> 0
I15: =SUM(I14:I14) -> 100 | M15: =SUM(M14:M14) -> 0
A16: 1.2 | B16: ='PLANILHA '!C15 -> Remoção de pintura antiga a óleo ou esmalte | P16: m² | R16: =I20-M20 -> 682.95
D17: x | E17: y | F17: z | G17: w | H17: QUANT. | J17: vãos à descontar | M17: TOTAL | N17: INFORMAÇÕES COMPLEMENTARES
D18: ÁREA | E18: LARG. | F18: ALTURA | G18: (%) | J18: COMP. | K18: ALT. | L18: QUANT.
D19: =I295 -> 682.95 | I19: =D19 -> 682.95 | M19: =J19*K19*L19 -> 0
I20: =SUM(I19:I19) -> 682.95 | M20: =SUM(M19:M19) -> 0
A21: 1.3 | B21: ='PLANILHA '!C16 -> Demolição de forro de madeira, sem reaproveitamento | P21: m² | R21: =I34-M34 -> 319.29
D22: x | E22: y | F22: z | G22: w | H22: QUANT. | I22: TOTAL | J22: vãos à descontar | M22: TOTAL | N22: INFORMAÇÕES COMPLEMENTARES
D23: ÁREA | E23: LARG. | F23: ALTURA | G23: (%) | J23: COMP. | K23: ALT. | L23: QUANT.
B24: SALA DE AULA 2 | D24: 51.66 | H24: =D24 -> 51.66 | I24: =H24 -> 51.66 | M24: =J24*K24*L24 -> 0
B25: SALA DE AULA 3 | D25: 47.7 | H25: =D25 -> 47.7 | I25: =H25 -> 47.7 | M25: =J25*K25*L25 -> 0
B26: SALA DE AULA 4 | D26: 33.71 | H26: =D26 -> 33.71 | I26: =H26 -> 33.71 | M26: =J26*K26*L26 -> 0
B27: SALA DE AULA 5 | D27: 47.3 | H27: =D27 -> 47.3 | I27: =H27 -> 47.3 | M27: =J27*K27*L27 -> 0
B28: SALA DE AULA 6 | D28: 52.8 | H28: =D28 -> 52.8 | I28: =H28 -> 52.8 | M28: =J28*K28*L28 -> 0
B29: SALA DE AULA 7 | D29: 16.24 | H29: =D29 -> 16.24 | I29: =H29 -> 16.24 | M29: =J29*K29*L29 -> 0
B30: SALA DOS PROFESSORES | D30: 12.24 | H30: =D30 -> 12.24 | I30: =H30 -> 12.24 | M30: =J30*K30*L30 -> 0
B31: DEPÓSITO | D31: 11.12 | H31: =D31 -> 11.12 | I31: =H31 -> 11.12 | M31: =J31*K31*L31 -> 0
B32: DIRETORIA | D32: 12.01 | H32: =D32 -> 12.01 | I32: =H32 -> 12.01 | M32: =J32*K32*L32 -> 0
B33: SALA DE AULA 08 | D33: 34.51 | H33: =D33 -> 34.51 | I33: =H33 -> 34.51 | M33: =J33*K33*L33 -> 0
I34: =SUM(I24:I33) -> 319.29 | M34: =SUM(M25:M25) -> 0
A35: 1.4 | B35: ='PLANILHA '!C17 -> Demolição de estrutura de madeira para telhado | P35: m² | R35: =I44-M44 -> 707.88
D36: x | E36: y | F36: z | G36: w | H36: QUANT. | J36: vãos à descontar | M36: TOTAL | N36: INFORMAÇÕES COMPLEMENTARES
D37: ÁREA | E37: LARG. | F37: ALTURA | G37: (%) | J37: COMP. | K37: ALT. | L37: QUANT.
B38: TELHADO 1 | D38: 51.04 | I38: =D38 -> 51.04 | M38: =J38*K38*L38 -> 0
B39: TELHADO 2 | D39: 40.6 | I39: =D39 -> 40.6 | M39: =J39*K39*L39 -> 0
B40: TELHADO 3 | D40: 19.86 | I40: =D40 -> 19.86 | M40: =J40*K40*L40 -> 0
B41: TELHADO 4 | D41: 243.72 | I41: =D41 -> 243.72 | M41: =J41*K41*L41 -> 0
B42: TELHADO 5 | D42: 303.67 | I42: =D42 -> 303.67 | M42: =J42*K42*L42 -> 0
...

Sheet CRONOGRAMA
A1: PREFEITURA MUNICIPAL DE SÃO DOMINGOS DO NORTE Rod. Gether Lopes de Farias, s/nº - Bairro Emílio Callegari São Domingos do Norte - ES - CEP 29745-000 Telefax: (027) 742 1219 - telefone (027) 742 1266 / 1216 / 1188 CNPJ 36.350.312/0001-72 CRONOGRAMA FISICO - FINANCEIRO
A10: PROJETO: "E.U.M" BRAÇO DO SUL" | B10: REF. CUSTO: IOPES 09/2017 | C10: Responsável:
A11: ITEM | B11: DESCRIÇÃO DOS SERVIÇOS | C11: TOTAIS | D11: MÊS 01 | F11: MÊS 02 | H11: MÊS 03 | J11: MÊS 04 | L11: MÊS 05 | N11: MÊS 06 | P11: MÊS 07
D12: V. MENSAL | E12: PORC. | F12: V. MENSAL | G12: PORC. | H12: V. MENSAL | I12: PORC. | J12: V. MENSAL | K12: PORC. | L12: V. MENSAL | M12: PORC. | N12: V. MENSAL | O12: PORC. | P12: V. MENSAL | Q12: PORC.
A13: 1 | B13: SERVIÇOS PRELIMINARES | C13: ='PLANILHA '!G23 -> 45931.115 | D13: =C13 -> 45931.115 | E13: =D13/C13 -> 1
B14: INSTALAÇÕES CANTEIRO | C14: ='PLANILHA '!G27 -> 1624.96 | D14: =C14 -> 1624.96 | E14: =D14/C14 -> 1
A15: 2 | B15: ESQUADRIAS | C15: ='PLANILHA '!G33 -> 20619.7 | D15: =C15/2 -> 10309.85 | E15: =D15/C15 -> 0.5 | F15: =C15/2 -> 10309.85 | G15: =F15/C15 -> 0.5
A16: 3 | B16: COBERTURA | C16: ='PLANILHA '!G42 -> 148193.02 | F16: =C16/3 -> 49397.673 | G16: =F16/C16 -> 0.33333333 | H16: =C16/3 -> 49397.673 | I16: =H16/C16 -> 0.33333333 | J16: =C16/3 -> 49397.673 | K16: =J16/C16 -> 0.33333333
A17: 4 | B17: RUFOS E CALHAS | C17: ='PLANILHA '!G47 -> 4761.627 | J17: =C17 -> 4761.627 | K17: =J17/C17 -> 1
A18: 5 | B18: TETOS E FORROS | C18: ='PLANILHA '!G51 -> 22670.745 | L18: =C18/2 -> 11335.372 | M18: =L18/C18 -> 0.5 | N18: =C18/2 -> 11335.372 | O18: =N18/C18 -> 0.5
A19: 6 | B19: INTALAÇÕES ELÉTRICAS | C19: ='PLANILHA '!G64 -> 40550.96 | F19: =C19/3 -> 13516.987 | G19: =F19/C19 -> 0.33333333 | H19: =C19/3 -> 13516.987 | I19: =H19/C19 -> 0.33333333 | J19: =C19/3 -> 13516.987 | K19: =J19/C19 -> 0.33333333
A20: 7 | B20: APARELHOS ELETRICOS | C20: ='PLANILHA '!G71 -> 16649.7 | L20: =C20/2 -> 8324.85 | M20: =L20/C20 -> 0.5 | N20: =C20/2 -> 8324.85 | O20: =N20/C20 -> 0.5
A21: 8 | B21: PINTURA | C21: ='PLANILHA '!G78 -> 30498 | L21: =C21/3 -> 10166 | M21: =N21/C21 -> 0.33333333 | N21: =C21/3 -> 10166 | O21: =L21/C21 -> 0.33333333 | P21: =C21/3 -> 10166 | Q21: =N21/C21 -> 0.33333333
A22: 9 | B22: SERVIÇOS COMPLEMENTARES | C22: ='PLANILHA '!G82 -> 6833.9628 | P22: =C22 -> 6833.9628 | Q22: =P22/C22 -> 1
A23: PARCIAIS | C23: =SUM(C13:C22) -> 338333.79 | D23: =SUM(D13:D22) -> 57865.925 | E23: =D23/C23 -> 0.17103206 | F23: =SUM(F13:F22) -> 73224.51 | G23: =F23/C23 -> 0.21642683 | H23: =SUM(H13:H22) -> 62914.66 | I23: =H23/C23 -> 0.18595441 | J23: =SUM(J13:J22) -> 67676.287 | K23: =J23/C23 -> 0.20002816 | L23: =SUM(L13:L22) -> 29826.222 | M23: =L23/C23 -> 0.088156203 | N23: =SUM(N13:N22) -> 29826.222 | O23: =N23/C23 -> 0.088156203 | P23: =SUM(P21:P22) -> 16999.963 | Q23: =P23/C23 -> 0.050246127
A24: TOTAIS ACUMULADO | D24: =D23 -> 57865.925 | E24: =D24/C23 -> 0.17103206 | F24: =F23+D23 -> 131090.44 | G24: =F24/C23 -> 0.38745889 | H24: =H23+F23+D23 -> 194005.1 | I24: =H24/C23 -> 0.5734133 | J24: =J23+H23+F23+D23 -> 261681.38 | K24: =J24/C23 -> 0.77344147 | L24: =L23+J23+H23+F23+D23 -> 291507.6 | M24: =L24/C23 -> 0.86159767 | N24: =N23+L23+J23+H23+F23+D23 -> 321333.83 | O24: =N24/C23 -> 0.94975387 | P24: =P23+N23+L23+J23+H23+F23+D23 -> 338333.79 | Q24: =P24/C23 -> 1
