Workbook
Name _1Excel_BuiltIn_Print_Area_3_1: #REF!
Name _FOG50: #REF!
Name _PVC100: #REF!
Name _PVC150: #REF!
Name _PVC50: #REF!
Name _PVC75: #REF!
Name _VBF1: #REF!
Name _VE1: #REF!
Name _VO1: [1]MEMORIAL!#REF!
Name _VR1: #REF!
Name A__1: [1]MEMORIAL!#REF!
Name A__1_1: [1]MEMORIAL!#REF!
Name A__2: [1]MEMORIAL!#REF!
Name A__2_1: [1]MEMORIAL!#REF!
Name A__3: [1]MEMORIAL!#REF!
Name A__3_1: [1]MEMORIAL!#REF!
Name A__4: [1]MEMORIAL!#REF!
Name A__4_1: [1]MEMORIAL!#REF!
Name A__5: [1]MEMORIAL!#REF!
Name A__5_1: [1]MEMORIAL!#REF!
Name A__6: [1]MEMORIAL!#REF!
Name A__6_1: [1]MEMORIAL!#REF!
Name A_1: [1]MEMORIAL!#REF!
Name A_1_1: [1]MEMORIAL!#REF!
Name A_2: [1]MEMORIAL!#REF!
Name A_2_1: [1]MEMORIAL!#REF!
Name A_3: [1]MEMORIAL!#REF!
Name A_3_1: [1]MEMORIAL!#REF!
Name APARENTE: #REF!
Name Área_impressão_IM: #REF!
Name ASFALTO: #REF!
Name ASFALTO_1: #REF!
Name BF: [2]MEMORIAL!#REF!
Name BF_1: [3]MEMORIAL!#REF!
Name BLOCRET: #REF!
Name BLOCRET_1: #REF!
Name ciclopico: [3]MEMORIAL!#REF!
Name ciclopico_1: [3]MEMORIAL!#REF!
Name COMPOSICAO01: #REF!
Name COMPOSIÇÃO01: #REF!
Name COMPOSICAO01_1: #REF!
Name COMPOSICAO02: #REF!
Name COMPOSICAO02_1: #REF!
Name concciclo: #REF!
Name concreto: #REF!
Name CSA: #REF!
Name CSA_1: #REF!
Name CSPP: #REF!
Name CSPP_1: #REF!
Name DEFOFO: #REF!
Name DEFOFO100: #REF!
Name DEFOFO150: #REF!
Name DEFOFO200: #REF!
Name DEFOFO250: #REF!
Name DEFOFO300: #REF!
Name Excel_BuiltIn__FilterDatabase_1: #REF!
Name Excel_BuiltIn_Print_Area_3_1: #REF!
Name Excel_BuiltIn_Print_Area_3_1_1: #REF!
Name Excel_BuiltIn_Print_Area_4: #REF!
Name Excel_BuiltIn_Print_Area_5_1: #REF!

Sheet PLANILHA 
B1: PREFEITURA MUNICIPAL DE SÃO DOMINGOS DO NORTE - ES
B2: PLANILHA DE QUANTIDADES E PREÇOS UNITÁRIOS
B3: OBRA:PAVIMENTAÇÃO E DRENAGEM RUAS PROJETADAS A E B.FLAUZINO SALVADOR, PROJETDA SERRA DA MULA E ANTONIO MARIM
B4: LOCAL: SÃO DOMINGOS DO NORTE - ES | E4: REFERÊNCIA: | F4: DER-ES - JAN DE 2017
A5: ITEM | B5: CÓDIGO | C5: ORGÃO | D5: DESCRIÇÃO SERVIÇO | E5: UNID. | F5: QUANT | G5: UNITÁRIO | H5: TOTAL
A7: 01 | D7: SERVIÇOS PRELIMINARES
A8: 01.01 | B8: 41500 | C8: DER-ES | D8: Placa de obra nas dimensões de 4,0 x 2,0 m, padrão DER-ES | E8: m² | F8: ='MEMORIA DE CALCULO'!R11 -> 8 | G8: 200.7 | H8: =F8*G8 -> 1605.6
A9: 01.02 | B9: C2873 | C9: SEINFRA | D9: Locação da obra com auxílio topográfico (área até 5000 m2) | E9: m² | F9: ='MEMORIA DE CALCULO'!R17 -> 4986.436 | G9: =0.29*1.2963 -> 0.375927 | H9: =F9*G9 -> 1874.5359
D10: SUB-TOTAL 01 | H10: =SUM(H8:H9) -> 3480.1359
A11: 02 | D11: TERRAPLENAGEM
A12: 02.01 | B12: 40230 | C12: SEINFRA | D12: Escavação e carga de material de 1ª categoria com escavadeira, tudo incluído | E12: m³ | F12: PMSDN | H12: 0
A13: 02.02 | B13: C2533 | C13: SEINFRA | D13: Transporte de material, exceto rocha em caminhão até 5 Km | E13: m³ | F13: PMSDN | H13: 0
D14: SUB-TOTAL 02 | H14: =SUM(H12:H13) -> 0
A15: 03 | D15: DRENAGEM
A16: 03.01 | B16: COMP-01 | D16: Trincheira Drenante em concreto armado, incluíndo grelhas FoFo, escavação e reaterro | E16: und | F16: ='MEMORIA DE CALCULO'!R24 -> 2 | G16: 3855 | H16: =F16*G16 -> 7710
A17: 03.02 | B17: 40426 | C17: DER-ES | D17: Corpo BSTC diâmetro 0,60 m C.S. MF inclusive escavação, reaterro e transporte do tubo | E17: m | F17: ='MEMORIA DE CALCULO'!R30 -> 50 | G17: 246.36 | H17: =F17*G17 -> 12318
D18: SUB-TOTAL - 03 | H18: =SUM(H16:H17) -> 20028
A19: 04 | D19: PAVIMENTAÇÃO
A20: 04.01 | B20: 40754 | C20: DER-ES | D20: Regularização e compactação do sub-leito (100% P.N.) H=0,15m | E20: m² | F20: PMSDN | H20: 0
A21: 04.02 | B21: 40663 | C21: DER-ES | D21: Meio fio de concreto pré-moldado (12x30x15) cm, inclusive caiação e transporte do meio fio | E21: m | F21: ='MEMORIA DE CALCULO'!R38 -> 1485 | G21: 50.9 | H21: =F21*G21 -> 75586.5
A22: 04.03 | B22: 40885 | C22: DER-ES | D22: Pavimentação com blocos de concreto (35 MPa), esp. -> 10 cm, sobre colchão areia esp.-> 5cm, inclusive fornecimento e transporte dos blocos e areia | E22: m² | F22: ='MEMORIA DE CALCULO'!R45 -> 4356 | G22: 94.4 | H22: =F22*G22 -> 411206.4 | J22: =H27+H18 -> 39312.839
A23: 04.04 | B23: 40890 | C23: DER-ES | D23: Remoção e reassentamento de blocos de concreto, inclusive perdas | E23: m² | F23: ='MEMORIA DE CALCULO'!R53 -> 36 | G23: 61.35 | H23: =F23*G23 -> 2208.6
D24: SUB-TOTAL - 04 | H24: =SUM(H20:H23) -> 489001.5
A25: 05 | D25: ITENS NOVOS
A26: 05.01 | B26: COMP 02 | D26: Trincheira de concreto com profundidade de 1,50m e largura de 1,50m, grelha em vergalhão de 25mm e perfil I ou H laminado. | E26: m | F26: ='MEMORIA DE CALCULO'!R61 -> 6.6 | G26: ='Trincheira drenante COMP 02'!J48 -> 2921.9452 | H26: =F26*G26 -> 19284.839
D27: SUB-TOTAL - 05 | H27: =SUM(H26:H26) -> 19284.839
D28: TOTAL | H28: =H27+H24+H18+H14+H10 -> 531794.47

Sheet MEMORIA DE CALCULO
A1: MEMÓRIA DE CÁLCULO
A3: PREFEITURA MUNICIPAL DE SÃO DOMINGOS DO NORTE
A4: Rod. Gether Lopes de Farias, s/nº - Bairro Emílio Callegari São Domingos do Norte - ES - CEP 29745-000
A5: Telefax: (027) 3742 1219 - telefone (027) 742 1266 / 1216 / 1188
A6: CNPJ 36.350.312/0001-72
A8: PAVIMENTAÇÃO SERRA DA MULA
A9: ITEM | B9: DESCRIÇÃO | R9: TOTAL DO ITEM
A10: ='PLANILHA '!D7 -> SERVIÇOS PRELIMINARES
B11: ='PLANILHA '!D8 -> Placa de obra nas dimensões de 4,0 x 2,0 m, padrão DER-ES | P11: m² | R11: =I15-M15 -> 8
D12: x | E12: y | F12: z | G12: w | H12: QUANT. | I12: TOTAL | J12: vãos à descontar | M12: TOTAL | N12: INFORMAÇÕES COMPLEMENTARES
D13: COMP. | E13: LARG. | F13: ALTURA | G13: (%) | J13: COMP. | K13: ALT. | L13: QUANT.
B14: Serra da Mula | D14: 4 | F14: 2 | I14: =D14*F14 -> 8 | M14: =J14*K14*L14 -> 0
I15: =SUM(I14:I14) -> 8 | M15: =SUM(M14:M14) -> 0
B17: Locação da obra com auxílio topográfico (área até 5000 m2) | P17: m² | R17: =I21-M21 -> 4986.436
D18: x | E18: y | F18: z | G18: w | H18: QUANT. | I18: TOTAL | J18: vãos à descontar | M18: TOTAL | N18: INFORMAÇÕES COMPLEMENTARES
D19: COMP. | E19: LARG. | F19: ALTURA | G19: (%) | J19: COMP. | K19: ALT. | L19: QUANT.
B20: Serra da Mula | H20: 4986.436 | I20: =H20 -> 4986.436 | M20: =J20*K20*L20 -> 0
I21: =SUM(I20:I20) -> 4986.436 | M21: =SUM(M20:M20) -> 0
A23: ='PLANILHA '!D15 -> DRENAGEM
B24: ='PLANILHA '!D16 -> Trincheira Drenante em concreto armado, incluíndo grelhas FoFo, escavação e reaterro | P24: und | R24: =I28 -> 2
D25: x | E25: y | F25: z | G25: w | H25: QUANT. | I25: TOTAL | J25: vãos à descontar | M25: TOTAL | N25: INFORMAÇÕES COMPLEMENTARES
D26: COMP. | E26: LARG. | F26: ALTURA | G26: (%) | J26: COMP. | K26: ALT. | L26: QUANT.
A27: Rua Antônio Marim (Campestre) | H27: 2 | I27: =H27 -> 2 | M27: =J27*K27*L27 -> 0
I28: =SUM(I27:I27) -> 2 | M28: =SUM(M27:M27) -> 0
B30: ='PLANILHA '!D17 -> Corpo BSTC diâmetro 0,60 m C.S. MF inclusive escavação, reaterro e transporte do tubo | P30: m | R30: =I35-M35 -> 50
D31: x | E31: y | F31: z | G31: w | H31: QUANT. | I31: TOTAL | J31: vãos à descontar | M31: TOTAL | N31: INFORMAÇÕES COMPLEMENTARES
D32: COMP. | E32: LARG. | F32: ALTURA | G32: (%) | J32: COMP. | K32: ALT. | L32: QUANT.
A33: Serra da Mula (Ver Projeto) | D33: 40 | I33: =D33 -> 40 | M33: =J33*K33*L33 -> 0
A34: Rua Antônio Marim | D34: 10 | I34: =D34 -> 10 | M34: =J34*K34*L34 -> 0
I35: =SUM(I33:I34) -> 50 | M35: =SUM(M33:M33) -> 0
A37: ='PLANILHA '!D19 -> PAVIMENTAÇÃO
B38: ='PLANILHA '!D21 -> Meio fio de concreto pré-moldado (12x30x15) cm, inclusive caiação e transporte do meio fio | P38: m | R38: =I43-M43 -> 1485
D39: x | E39: y | F39: z | G39: w | H39: QUANT. | I39: TOTAL | J39: vãos à descontar | M39: TOTAL | N39: INFORMAÇÕES COMPLEMENTARES
D40: COMP. | E40: LARG. | F40: ALTURA | G40: (%) | J40: COMP. | K40: ALT. | L40: QUANT.
A41: Serra da Mula (Ver Projeto) | D41: 660 | H41: 2 | I41: =H41*D41 -> 1320 | M41: =J41*K41*L41 -> 0
A42: Serra da Mula (TRAVAMENTOS) | D42: =25*6.6 -> 165 | I42: =D42 -> 165 | M42: =J42*K42*L42 -> 0
I43: =SUM(I41:I42) -> 1485 | M43: =SUM(M41:M41) -> 0
B45: ='PLANILHA '!D22 -> Pavimentação com blocos de concreto (35 MPa), esp. -> 10 cm, sobre colchão areia esp.-> 5cm, inclusive fornecimento e transporte dos blocos e areia | P45: m² | R45: =I49-M49 -> 4356
D46: x | E46: y | F46: z | G46: w | H46: QUANT. | I46: TOTAL | J46: vãos à descontar | M46: TOTAL | N46: INFORMAÇÕES COMPLEMENTARES
D47: COMP. | E47: LARG. | F47: ALTURA | G47: (%) | J47: COMP. | K47: ALT. | L47: QUANT.
...

Sheet Cronograma
B1: PREFEITURA MUNICIPAL DE SÃO DOMINGOS DO NORTE
B2: PLANILHA DE QUANTIDADES E PREÇOS UNITÁRIOS
B3: OBRA: PAVIMENTAÇÃO E DRENAGEM , RUA ANTONIO MARIM, RUA PROJETADA A, PROJETADA B,
B4: FLAUZINO SALVADOR E PROJETADA SERRA DA MULA
B5: LOCAL:SÃO DOMINGOS DO NORTE - ES | E5: DATA-BASE: DER-ES JAN 2017 | J5: BDI: | K5: 0.2963
A6: ITEM | B6: DESCRIÇÃO | D6: VALORES R$ | E6: PESO | F6: PERÍODO (MESES)
F7: 1 | G7: 2 | H7: 3 | I7: 4 | J7: 5 | K7: 6 | L7: 7 | M7: 8
A8: 1 | B8: SERVIÇOS PRELIMINARES | C8: Financeiro (R$) | D8: ='PLANILHA '!H10 -> 3480.1359 | E8: =D8/D13 -> 0.0065441371 | F8: LICITAÇÃO | G8: LICITAÇÃO | H8: LICITAÇÃO | I8: =D8 -> 3480.1359
A9: 2 | B9: TERRAPLENAGEM | C9: Financeiro (R$) | D9: ='PLANILHA '!H14 -> 0 | E9: =D9/D13 -> 0 | I9: =D9 -> 0
A10: 3 | B10: DRENAGEM | C10: Financeiro (R$) | D10: ='PLANILHA '!H18 -> 20028 | E10: =D10/D13 -> 0.037661166 | I10: =D10/2 -> 10014 | J10: =D10/2 -> 10014
A11: 4 | B11: PAVIMENTAÇÃO | C11: Financeiro (R$) | D11: ='PLANILHA '!H24 -> 489001.5 | E11: =D11/D13 -> 0.91953099 | I11: =D11/5 -> 97800.3 | J11: =D11/5 -> 97800.3 | K11: =D11/5 -> 97800.3 | L11: =D11/5 -> 97800.3 | M11: =D11/5 -> 97800.3
A12: 5 | B12: ITENS NOVOS | C12: Financeiro (R$) | D12: ='PLANILHA '!H27 -> 19284.839 | E12: =D12/D13 -> 0.036263706 | J12: =D12/4 -> 4821.2096 | K12: =D12/4 -> 4821.2096 | L12: =D12/4 -> 4821.2096 | M12: =D12/4 -> 4821.2096
B13: Total geral (R$) | D13: =SUM(D8:D12) -> 531794.47 | E13: =D13/D14 -> 1 | I13: =SUM(I8:I12) -> 111294.44 | J13: =SUM(J8:J12) -> 112635.51 | K13: =SUM(K8:K12) -> 102621.51 | L13: =SUM(L8:L12) -> 102621.51 | M13: =SUM(M8:M12) -> 102621.51
B14: Total Acumulado (R$) | D14: =D13 -> 531794.47 | E14: 1 | I14: =I13 -> 111294.44 | J14: =J13+I14 -> 223929.95 | K14: =K13+J14 -> 326551.46 | L14: =L13+K14 -> 429172.96 | M14: =L14+M13 -> 531794.47
D18: =D13/5 -> 106358.89

Sheet Trincheira drenante COMP 02
A1: COMPOSIÇÃO ANALÍTICA DE PREÇO UNITÁRIO
A2: Tabela de Preços: Referencial de Preços 09/2017 com BDI=35% (Resolução SETOP Nº 01/2016)
A3: DESCRIÇÃO DO SERVIÇO | D3: ITEM | F3: UNIDADE | H3: DATA BASE
A4: Trincheira de concreto com profundidade de 1,50m e largura de 1,50m, grelha em vergalhão de 25mm e perfil I ou H laminado. | D4: 43095 DER-ES | F4: M | H4: Junho / 2015
A6: (A)Equipamento | B6: Código padrão | C6: Quantidade | D6: Ut. Pr | E6: Ut. Impr | F6: Vl. Hr. Prod | H6: Vl. Hr. Imp | J6: Custo Horário
A8: TOTAL A | J8: =SUM(J7) -> 0
A10: (B)Mão-de-Obra | B10: Código padrão | C10: Eq. Salarial | D10: Encargos(%) | E10: Sal/Hora | G10: Consumo | J10: Custo Horário
A11: Encarregado geral de obras | B11: 4083 | C11: 2.26 | D11: 128.33 | E11: =30.38*0.7714 -> 23.435132 | G11: 0.3 | J11: =E11*G11 -> 7.0305396
A12: Pedreiro de O.A.C. | B12: 4750 | C12: 1.24 | D12: 128.33 | E12: =14.13*0.7714 -> 10.899882 | G12: 0.5 | J12: =E12*G12-0.01 -> 5.439941
A13: Servente | B13: 6111 | C13: 1 | D13: 128.33 | E13: 8,81 | G13: 8 | J13: =E13*G13 -> 70.48
A14: Soldador | B14: 6160 | D14: 128.33 | E14: 11,99 | G14: 1.3 | J14: =E14*G14 -> 15.587
A15: TOTAL B | J15: =SUM(J11:J14) -> 98.537481
A17: (C)Itens de Incidência | B17: Código padrão | C17: % | D17: M. O. | E17: Equip. | G17: Mat. | J17: Custo
A18: Ferramentas manuais | B18: 2000 | C18: 5 | D18: X | J18: =0.87+3.03 -> 3.9
A19: TOTAL C | J19: 1.31
D21: Custo Horário da Execução (A) + (B) + (C) | J21: =J8+J15+J19 -> 99.847481
D22: (D) Produção da Equipe | J22: 1
D23: (E) Custo Unitário da Execução [(A) + (B) + (C)] / (D) | J23: =J21/J22 -> 99.847481
A25: (F)Materiais | B25: Código padrão | C25: Unid. | D25: Custo Unitário | G25: Consumo | J25: Custo Unitário
A26: CANTONEIRA DE FERRO 3/16" X 1.1/4" X 1.1/4" | B26: 049666 IOPES | C26: m | D26: =8.42*0.7639 -> 6.432038 | G26: =1.5*2+2 -> 5 | J26: =D26*G26 -> 32.16019
A27: ACO CA-50, 25,0 MM, VERGALHAO | B27: 00000028 SINAPI | C27: kg | D27: 3,62 | G27: 115.59 | J27: =D27*G27 -> 418.4358
A28: PERFIL "I" DE ACO LAMINADO, "I" 152 X 22 | B28: 00004767 SINAPI | C28: m | D28: 80,48 | G28: =4*1.5 -> 6 | J28: =D28*G28 -> 482.88
A29: TOTAL F | J29: =SUM(J26:J28) -> 933.47599 | M29: concreto | N29: magro | O29: forma | P29: ferragem | Q29: escavação
L30: trecheira 1 | M30: =(1.5*2+1*2)*1.7*0.3+1.5*1*0.3 -> 3 | N30: =1.5*1*0.05 -> 0.075 | O30: =(1.5*2+1*2)*1.7 -> 8.5 | P30: =(U30+V30)*0.963 -> 56.175 | Q30: =1.6*1.2*0.3+1.6*1.2*1.5 -> 3.456 | S30: =1.5/0.15 -> 10 | T30: =1/0.15 -> 6.6666667 | U30: =S30*Z30 -> 37 | V30: =T30*AA30 -> 21.333333 | W30: =1.7/0.15 -> 11.333333 | X30: =W30*AB30 -> 53.266667 | Z30: =1.5*2-(0.05*4)+1-(0.05*2) -> 3.7 | AA30: =1.5-(2*0.05)+1*2-(4*0.05) -> 3.2 | AB30: =1.5*2-(4*0.05)+1*2-(4*0.05)+0.1 -> 4.7
A31: (G)Serviços | B31: Código padrão | C31: Unid. | D31: Custo Unitário | G31: Consumo | J31: Custo Unitário
A32: Aço CA-50, fornecimento, dobragem e colocação nas formas (preço médio das bitolas) | B32: 40376 | C32: kg | D32: =7.02*0.7714 -> 5.415228 | G32: =P30 -> 56.175 | J32: =D32*G32 -> 304.20043
A33: Concreto estrutural fck = 15,0 MPa, tudo incluído | B33: 40358 | C33: m³ | D33: =420.42*0.7714 -> 324.31199 | G33: 0.7 | J33: =D33*G33 -> 227.01839
A34: LASTRO DE CONCRETO, PREPARO MECÂNICO, INCLUSOS ADITIVO IMPERMEABILIZANTE, LANÇAMENTO E ADENSAMENTO | B34: 83534 (SINAPI) | C34: m³ | D34: 423,24 | G34: =1.5*1*0.05 -> 0.075 | J34: =D34*G34 -> 31.743
A35: LASTRO COM MATERIAL GRANULAR, APLICAÇÃO EM PISOS OU RADIERS, ESPESSURA DE *5 CM*. AF_08/2017 | B35: 96622 | C35: m³ | D35: 94.58 | G35: =1.5*1*0.15 -> 0.225 | J35: =D35*G35 -> 21.2805
A36: Formas planas de madeira com 02 (dois) reaproveitamentos, inclusive fornecimento e transporte das madeiras | B36: 40312 | C36: m² | D36: =66.71*0.7714 -> 51.460094 | G36: 8.5 | J36: =D36*G36 -> 437.4108
A37: Escavação mecânica em material de 1ª cat. H= 0,00 a 1,50 m | B37: 40282 | C37: m³ | D37: =8.95*0.7714 -> 6.90403 | G37: =1.6*1.2*1.5 -> 2.88 | J37: =D37*G37 -> 19.883606
A38: Escavação mecânica em material de 1ª cat. H= 1,50 a 3,00 m | B38: 42963 | C38: m³ | D38: =13.87*0.7714 -> 10.699318 | G38: =1.6*1.2*0.3 -> 0.576 | J38: =D38*G38 -> 6.1628072
A39: Reaterro de cavas c/ compactação mecânica (compactador manual) | B39: 40303 | C39: m³ | D39: =39.22*0.7714 -> 30.254308 | G39: =(G37+G38)-G33 -> 2.756 | J39: =D39*G39 -> 83.380873
A40: TOTAL G | J40: =SUM(J32:J39) -> 1131.0804
A42: (H)Itens de Transporte | B42: Código padrão | C42: Unid. | D42: Fórmula | E42: X1 | F42: X2 | G42: X3 | H42: Custo | I42: Consumo | J42: Custo Unit.
A44: TOTAL H | J44: =J43 -> 0
D46: Custo Direto Total (E) + (F) + (G) + (H) | J46: =J23+J29+J40+J44 -> 2164.4039
D47: BDI: 35% | J47: =J46*0.35 -> 757.54136
D48: Preço Unitário Total | J48: =J46*1.35 -> 2921.9452
A53: FABRÍCIO BEZERRA CARLOS DE SOUZA
...
