Workbook
Name Print_Area_0: CALC!$A$1:$L$877
Name Print_Area_0: Capa!$A$1:$J$43
Name Print_Area_0: Cronograma!$A$1:$I$57
Name Print_Area_0: Orçamento!$A$1:$K$253
Name Print_Area_0_0: CALC!$A$1:$L$877
Name Print_Area_0_0: Capa!$A$1:$J$43
Name Print_Area_0_0: Cronograma!$A$1:$I$57
Name Print_Area_0_0: Orçamento!$A$1:$K$253

Sheet Capa
C1: PREFEITURA MUNICIPAL DE SÃO DOMINGOS DO NORTE
C2: Rodovia Gether Lopes de Faria, s/n - Bairro Emilio Calegari
C3: São Domingos do Norte/ES - CEP: 29745-000
C4: Telefone: (27) 3742-0200
A18: CONSTRUÇÃO DE ESCOLA
A19: COMUNIDADE BELA VISTA
A39: São Domingos do Norte/ES, fevereiro de 2019

Sheet CALC
D1: =Capa!$C$1 -> PREFEITURA MUNICIPAL DE SÃO DOMINGOS DO NORTE
D2: =Capa!$C$2 -> Rodovia Gether Lopes de Faria, s/n - Bairro Emilio Calegari
D3: =Capa!$C$3 -> São Domingos do Norte/ES - CEP: 29745-000
A4: MEMÓRIA DE CÁLCULO
A5: OBRA: | C5: =Capa!A18 -> CONSTRUÇÃO DE ESCOLA
A6: LOCAL: | C6: =Capa!A19 -> COMUNIDADE BELA VISTA
A8: 1.0 | C8: SEVIÇOS PRELIMINARES
A9: 1.1 | D9: DEMOLIÇÕES E RETIRADAS
A10: 1.1.1 | B10: IOPES | C10: 10201 | D10: Demolição de piso cimentado inclusive lastro de concreto | L10: m²
B11: ÁREA | C11: PERÍM. | D11: X | E11: Y | F11: Z | G11: QUANT. | H11: W | I11: Vãos à Descontar | L11: TOTAL
B12: m² | C12: m | D12: Comp. | E12: Larg. | F12: Alt. | G12: und. | H12: % | I12: X | J12: Y | K12: Z
D13: 4.85 | E13: 2.85 | L13: =D13*E13 -> 13.8225
A14: TOTAL ACUMULADO | L14: =L13 -> 13.8225
A15: 1.1.2 | B15: IOPES | C15: 10209 | D15: Demolição de alvenaria | L15: m³
B16: ÁREA | C16: PERÍM. | D16: X | E16: Y | F16: Z | G16: QUANT. | H16: W | I16: Vãos à Descontar | L16: TOTAL
B17: m² | C17: m | D17: Comp. | E17: Larg. | F17: Alt. | G17: und. | H17: % | I17: X | J17: Y | K17: Z
D18: 16 | E18: 0.15 | F18: 3 | L18: =D18*E18*F18 -> 7.2
A19: TOTAL ACUMULADO | L19: =L18 -> 7.2
A20: 1.1.3 | B20: IOPES | C20: 10324 | D20: Retirada de cobertura em telha canalete 90 | L20: m²
B21: ÁREA | C21: PERÍM. | D21: X | E21: Y | F21: Z | G21: QUANT. | H21: W | I21: Vãos à Descontar | L21: TOTAL
B22: m² | C22: m | D22: Comp. | E22: Larg. | F22: Alt. | G22: und. | H22: % | I22: X | J22: Y | K22: Z
D23: 4.85 | E23: 2.85 | L23: =D23*E23 -> 13.8225
A24: TOTAL ACUMULADO | L24: =L23 -> 13.8225
A25: 1.1.4 | B25: IOPES | C25: 10325 | D25: Demolição de estrutura de madeira para telhado m2 23,56 | L25: m²
B26: ÁREA | C26: PERÍM. | D26: X | E26: Y | F26: Z | G26: QUANT. | H26: W | I26: Vãos à Descontar | L26: TOTAL
B27: m² | C27: m | D27: Comp. | E27: Larg. | F27: Alt. | G27: und. | H27: % | I27: X | J27: Y | K27: Z
D28: 4.85 | E28: 2.85 | L28: =D28*E28 -> 13.8225
A29: TOTAL ACUMULADO | L29: =L28 -> 13.8225
A30: 1.2 | D30: LIMPEZA DO TERRENO
A31: 1.2.1 | B31: IOPES | C31: 10402 | D31: Raspagem e limpeza do terreno (manual) | L31: m²
B32: ÁREA | C32: PERÍM. | D32: X | E32: Y | F32: Z | G32: QUANT. | H32: W | I32: Vãos à Descontar | L32: TOTAL
B33: m² | C33: m | D33: Comp. | E33: Larg. | F33: Alt. | G33: und. | H33: % | I33: X | J33: Y | K33: Z
B34: 177.69 | L34: =B34 -> 177.69
A35: TOTAL ACUMULADO | L35: =B34 -> 177.69
A36: 1.3 | D36: LOCAÇÃO
A37: 1.3.1 | B37: IOPES | C37: 10501 | D37: Locação de obra com gabarito de madeira | L37: m²
B38: ÁREA | C38: PERÍM. | D38: X | E38: Y | F38: Z | G38: QUANT. | H38: W | I38: Vãos à Descontar | L38: TOTAL
B39: m² | C39: m | D39: Comp. | E39: Larg. | F39: Alt. | G39: und. | H39: % | I39: X | J39: Y | K39: Z
B40: 134.19 | L40: =B40 -> 134.19
A41: TOTAL ACUMULADO | L41: =B40 -> 134.19
...

Sheet Orçamento
D1: =Capa!$C$1 -> PREFEITURA MUNICIPAL DE SÃO DOMINGOS DO NORTE
D2: =Capa!$C$2 -> Rodovia Gether Lopes de Faria, s/n - Bairro Emilio Calegari
D3: =Capa!$C$3 -> São Domingos do Norte/ES - CEP: 29745-000
A4: PLANILHA ORÇAMENTÁRIA DE CUSTOS
A5: OBRA: | C5: =Capa!A18 -> CONSTRUÇÃO DE ESCOLA | H5: DATA BASE | I5: Set./2019 | J5: BDI ADOTADO | K5: 0.309
A6: LOCAL: | C6: =Capa!A19 -> COMUNIDADE BELA VISTA
A7: ITEM | B7: REFERÊNCIA | D7: DESCRIÇÃO | E7: UNID. | F7: QUANT. | G7: UNITÁRIO DE REFERÊNCIA COM BDI | H7: BDI REFERÊNCIA | I7: UNITÁRIO DE REFERÊNCIA SEM BDI | J7: UNITÁRIO COM BDI ADOTADO | K7: PREÇO TOTAL
A8: 1.0 | D8: =#REF! -> #REF!
A9: 1.1 | D9: =CALC!D9 -> DEMOLIÇÕES E RETIRADAS
A10: 1.1.1 | B10: IOPES | C10: =CALC!C10 -> 10201 | D10: Demolição de piso cimentado inclusive lastro de concreto | E10: m² | F10: =CALC!L14 -> 13.8225 | G10: 20.84 | H10: 0.309 | I10: =G10/(1+H10) -> 15.92055 | J10: =I10*(1+$K$5) -> 20.84 | K10: =F10*J10 -> 288.0609
A11: 1.1.1 | B11: IOPES | C11: =CALC!C15 -> 10209 | D11: Demolição de alvenaria | E11: m³ | F11: =CALC!L19 -> 7.2 | G11: 48.09 | H11: 0.309 | I11: =G11/(1+H11) -> 36.737968 | J11: =I11*(1+$K$5) -> 48.09 | K11: =F11*J11 -> 346.248
A12: 1.1.1 | B12: IOPES | C12: =CALC!C20 -> 10324 | D12: Retirada de cobertura em telha canalete 90 | E12: m² | F12: =CALC!L24 -> 13.8225 | G12: 7.07 | H12: 0.309 | I12: =G12/(1+H12) -> 5.4010695 | J12: =I12*(1+$K$5) -> 7.07 | K12: =F12*J12 -> 97.725075
A13: 1.1.1 | B13: IOPES | C13: =CALC!C25 -> 10325 | D13: Demolição de estrutura de madeira para telhado m2 23,56 | E13: m² | F13: =CALC!L29 -> 13.8225 | G13: 23.56 | H13: 0.309 | I13: =G13/(1+H13) -> 17.998472 | J13: =I13*(1+$K$5) -> 23.56 | K13: =F13*J13 -> 325.6581
A14: 1.1 | D14: LIMPEZA DO TERRENO
A15: 1.1.1 | B15: IOPES | C15: 10402 | D15: Raspagem e limpeza do terreno (manual) | E15: m² | F15: =CALC!L35 -> 177.69 | G15: 3.53 | H15: 0.309 | I15: =G15/(1+H15) -> 2.696715 | J15: =I15*(1+$K$5) -> 3.53 | K15: =F15*J15 -> 627.2457
A16: 1.2 | D16: LOCAÇÃO
A17: 1.2.1 | B17: IOPES | C17: 10501 | D17: Locação de obra com gabarito de madeira | E17: m² | F17: =CALC!L41 -> 134.19 | G17: 20.29 | H17: 0.309 | I17: =G17/(1+H17) -> 15.500382 | J17: =I17*(1+$K$5) -> 20.29 | K17: =F17*J17 -> 2722.7151
A18: SUBTOTAL | K18: =SUM(K10:K17) -> 4407.6529
A19: 2.0 | D19: INSTALAÇÃO DO CANTEIRO DE OBRAS
A20: 2.1 | D20: TAPUMES, BARRACÕES E COBERTURAS
A21: 2.1.1 | B21: IOPES | C21: 20305 | D21: Placa de obra nas dimensões de 2.0 x 4.0 m, padrão IOPES | E21: m² | F21: =CALC!L48 -> 8 | G21: 277.46 | H21: 0.309 | I21: =G21/(1+H21) -> 211.96333 | J21: =I21*(1+$K$5) -> 277.46 | K21: =F21*J21 -> 2219.68
A22: 2.2 | D22: INSTALAÇÃO DO CANTEIRO DE OBRAS
A23: 2.2.1 | B23: IOPES | C23: 20801 | D23: Barracão para escritório com sanitário área 14.50m2, de chapa de compens. 12mm e pontalete 8x8cm, piso cimentado e cobertura de telha de fibroc. 6mm, incl. ponto de luz e cx. de inspeção, conf. projeto (2 utilizações) | E23: m² | F23: =CALC!L54 -> 14.5 | G23: 467.76 | H23: 0.309 | I23: =G23/(1+H23) -> 357.34148 | J23: =I23*(1+$K$5) -> 467.76 | K23: =F23*J23 -> 6782.52
A24: 2.2.2 | B24: IOPES | C24: 20802 | D24: Barracão para almoxarifado área de 10.90m2, de chapa de compensado 12mm e pontaletes 8x8cm, piso cimentado e cobertura de telha de fibrocimento de 6mm, inclusive ponto de luz, conf. projeto (2 utilizações) | E24: m² | F24: =CALC!L59 -> 10.9 | G24: 328.35 | H24: 0.309 | I24: =G24/(1+H24) -> 250.84034 | J24: =I24*(1+$K$5) -> 328.35 | K24: =F24*J24 -> 3579.015
A25: SUBTOTAL | K25: =SUM(K21:K24) -> 12581.215
A26: 3.0 | D26: MOVIMENTO DE TERRA
A27: 3.1 | D27: ESCAVAÇÕES
A28: 3.1.1 | B28: IOPES | C28: =CALC!C62 -> 30104 | D28: Escavação mecânica em material de 2a. Categoria | E28: =CALC!L62 -> m³ | F28: =CALC!L67 -> 12.96 | G28: 18.29 | H28: 0.309 | I28: =G28/(1+H28) -> 13.972498 | J28: =I28*(1+$K$5) -> 18.29 | K28: =J28*F28 -> 237.0384
A29: 3.1.2 | B29: IOPES | C29: =CALC!C68 -> 30119 | D29: Apiloamento do fundo de vala com maço de 30 a 60kg | E29: =CALC!L68 -> m² | F29: =CALC!L72 -> 5.76 | G29: 23.99 | H29: 0.309 | I29: =G29/(1+H29) -> 18.326967 | J29: =I29*(1+$K$5) -> 23.99 | K29: =J29*F29 -> 138.1824
A30: 3.1.3 | B30: =CALC!B73 -> DER ES | C30: =CALC!C73 -> 40223 | D30: Escavação e carga de material de 3ª categoria (H bancada >1,0 m) | E30: =CALC!L73 -> m³ | F30: =CALC!L78 -> 13.52 | G30: 46.56 | H30: 0 | I30: =G30/(1+H30) -> 46.56 | J30: =I30*(1+$K$5) -> 60.94704 | K30: =J30*F30 -> 824.00398
A31: 3.1.4 | B31: DER ES | C31: 40394 | D31: Perfuração de rocha para fixação de chumbadores | E31: m | F31: =CALC!L83 -> 20 | G31: 23.72 | H31: 0 | I31: =G31/(1+H31) -> 23.72 | J31: =I31*(1+$K$5) -> 31.04948 | K31: =J31*F31 -> 620.9896
A32: SUBTOTAL | K32: =SUM(K28:K31) -> 1820.2144
A33: 4.0 | D33: ESTRUTURAS
A34: 4.1 | D34: INFRA-ESTRUTURA (FUNDAÇÃO)
A35: 4.1.1 | B35: IOPES | C35: 40206 | D35: Fôrma de tábua de madeira de 2.5 x 30.0 cm para fundações, levando-se em conta a utilização 5 vezes (incluido o material, corte, montagem, escoramento e desforma) | E35: m² | F35: =CALC!L92 -> 7.5634 | G35: 114.34 | H35: 0.309 | I35: =G35/(1+H35) -> 87.349121 | J35: =I35*(1+$K$5) -> 114.34 | K35: =J35*F35 -> 864.79916
A36: 4.1.2 | B36: IOPES | C36: 40231 | D36: Fornecimento, preparo e aplicação de concreto magro com consumo mínimo de cimento de 250 kg/m3 (brita 1 e 2) - (5% de perdas já incluído no custo) | E36: m³ | F36: =CALC!L98 -> 3.06304 | G36: 496.79 | H36: 0.309 | I36: =G36/(1+H36) -> 379.51872 | J36: =I36*(1+$K$5) -> 496.79 | K36: =J36*F36 -> 1521.6876
A37: 4.1.3 | B37: IOPES | C37: 40239 | D37: Fornecimento e aplicação de concreto USINADO Fck=20 MPa - considerando lançamento MANUAL para INFRA-ESTRUTURA (5% de perdas já incluído no custo) | E37: m³ | F37: =CALC!L105 -> 7.5634 | G37: 438.14 | H37: 0.309 | I37: =G37/(1+H37) -> 334.71352 | J37: =I37*(1+$K$5) -> 438.14 | K37: =J37*F37 -> 3313.8281
A38: 4.1.4 | B38: IOPES | C38: 40243 | D38: Fornecimento, dobragem e colocação em fôrma, de armadura CA-50 A média, diâmetro de 6.3 a 10.0 mm | E38: kg | F38: =CALC!L110 -> 1.51268 | G38: 8.76 | H38: 0.309 | I38: =G38/(1+H38) -> 6.6921314 | J38: =I38*(1+$K$5) -> 8.76 | K38: =J38*F38 -> 13.251077
A39: 4.1.5 | B39: IOPES | C39: 40245 | D39: Fornecimento, dobragem e colocação em fôrma, de armadura CA-50 A grossa diâmetro de 12.5 a 25.0 mm | E39: kg | F39: =CALC!L115 -> 6.05072 | G39: 9.08 | H39: 0.309 | I39: =G39/(1+H39) -> 6.9365928 | J39: =I39*(1+$K$5) -> 9.08 | K39: =J39*F39 -> 54.940538
A40: 4.2 | D40: SUPER-ESTRUTURA
...

Sheet Cronograma
F1: =Capa!$C$1 -> PREFEITURA MUNICIPAL DE SÃO DOMINGOS DO NORTE
F2: =Capa!$C$2 -> Rodovia Gether Lopes de Faria, s/n - Bairro Emilio Calegari
F3: =Capa!$C$3 -> São Domingos do Norte/ES - CEP: 29745-000
A4: CRONOGRAMA FÍSICO-FINANCEIRO
A5: OBRA: | B5: =#REF! -> #REF! | K5: PRAZO DA OBRA: 240 DIAS
A6: LOCAL: | B6: =#REF! -> #REF!
A7: ITEM | B7: ETAPAS/DESCRIÇÃO | D7: FÍSICO/ FINANCEIRO | E7: TOTAL ETAPAS | F7: MÊS 1 | G7: MÊS 2 | H7: MÊS 3 | I7: MÊS 4 | J7: MÊS 5 | K7: MÊS 6 | L7: MÊS 7 | M7: MÊS 8
A8: 1 | B8: =Orçamento!D8 -> #REF! | D8: Físico % | E8: =E9/$E$49 -> 0.015223084
D9: Financeiro | E9: =Orçamento!K18 -> 4407.6529 | F9: =E9 -> 4407.6529
A10: 2 | B10: =Orçamento!D19 -> INSTALAÇÃO DO CANTEIRO DE OBRAS | D10: Físico % | E10: =E11/$E$49 -> 0.043452808
D11: Financeiro | E11: =Orçamento!K25 -> 12581.215 | F11: =E11 -> 12581.215
A12: 3 | B12: =Orçamento!D26 -> MOVIMENTO DE TERRA | D12: Físico % | E12: =E13/$E$49 -> 0.0062866286
D13: Financeiro | E13: =Orçamento!K32 -> 1820.2144 | F13: =E13 -> 1820.2144
A14: 4 | B14: =Orçamento!D33 -> ESTRUTURAS | D14: Físico % | E14: =E15/$E$49 -> 0.031296216
D15: Financeiro | E15: =Orçamento!K47 -> 9061.4264 | G15: =E15*0.4 -> 3624.5706 | H15: =E15*0.4 -> 3624.5706 | I15: =E15-G15-H15 -> 1812.2853
A16: 5 | B16: =Orçamento!D48 -> PAREDES E PAINÉIS | D16: Físico % | E16: =E17/$E$49 -> 0.080088513
D17: Financeiro | E17: =Orçamento!K55 -> 23188.624 | G17: =E17*0.2 -> 4637.7247 | H17: =E17*0.4 -> 9275.4495 | I17: =E17*0.4 -> 9275.4495
A18: 6 | B18: =Orçamento!D56 -> ESQUADRIAS DE MADEIRA | D18: Físico % | E18: =E19/$E$49 -> 0.0078706918
D19: Financeiro | E19: =Orçamento!K61 -> 2278.86 | J19: =E19*0.5 -> 1139.43 | K19: =E19*0.5 -> 1139.43
A20: 7 | B20: =Orçamento!D62 -> ESQUADRIAS METÁLICAS | D20: Físico % | E20: =E21/$E$49 -> 0.064781106
D21: Financeiro | E21: =Orçamento!K71 -> 18756.556 | K21: =E21*0.5 -> 9378.278 | L21: =E21*0.5 -> 9378.278
A22: 8 | B22: =Orçamento!D72 -> VIDROS E ESPELHOS | D22: Físico % | E22: =E23/$E$49 -> 0.0093262258
D23: Financeiro | E23: =Orçamento!K77 -> 2700.2916 | M23: =E23 -> 2700.2916
A24: 9 | B24: =Orçamento!D78 -> SISTEMAS DE COBERTURA | D24: Físico % | E24: =E25/$E$49 -> 0.084092791
D25: Financeiro | E25: =Orçamento!K85 -> 24348.012 | I25: =E25*0.5 -> 12174.006 | J25: =E25*0.5 -> 12174.006
A26: 10 | B26: =Orçamento!D86 -> IMPERMEABILIZAÇÃO | D26: Físico % | E26: =E27/$E$49 -> 0.020047718
D27: Financeiro | E27: =Orçamento!K89 -> 5804.565 | H27: =E27*0.5 -> 2902.2825 | I27: =E27*0.5 -> 2902.2825
A28: 11 | B28: =Orçamento!D90 -> TETOS E FORROS | D28: Físico % | E28: =E29/$E$49 -> 0.082321912
D29: Financeiro | E29: =Orçamento!K99 -> 23835.276 | L29: =E29 -> 23835.276
A30: 12 | B30: =Orçamento!D100 -> REVESTIMENTO DE PAREDES | D30: Físico % | E30: =E31/$E$49 -> 0.060476245
D31: Financeiro | E31: =Orçamento!K109 -> 17510.138 | J31: =E31*0.5 -> 8755.0688 | K31: =E31*0.5 -> 8755.0688
A32: 13 | B32: =Orçamento!D110 -> PISOS INTERNOS E EXTERNOS | D32: Físico % | E32: =E33/$E$49 -> 0.048086268
D33: Financeiro | E33: =Orçamento!K119 -> 13922.775 | J33: =E33*0.4 -> 5569.1101 | K33: =E33*0.4 -> 5569.1101 | L33: =E33*0.2 -> 2784.555
A34: 14 | B34: =Orçamento!D120 -> INSTALAÇÕES HIDRO-SANITÁRIAS | D34: Físico % | E34: =E35/$E$49 -> 0.030357094
D35: Financeiro | E35: =Orçamento!K145 -> 8789.5156 | I35: =E35 -> 8789.5156
A36: 15 | B36: =Orçamento!D146 -> INSTALAÇÕES ELÉTRICAS | D36: Físico % | E36: =E37/$E$49 -> 0.072450939
D37: Financeiro | E37: =Orçamento!K184 -> 20977.26 | I37: =E37*0.5 -> 10488.63 | J37: =E37*0.5 -> 10488.63
A38: 16 | B38: =Orçamento!D185 -> APARELHOS HIDRO-SANITÁRIOS | D38: Físico % | E38: =E39/$E$49 -> 0.03895291
D39: Financeiro | E39: =Orçamento!K205 -> 11278.326 | M39: =E39 -> 11278.326
A40: 17 | B40: =Orçamento!D206 -> APARELHOS ELÉTRICOS | D40: Físico % | E40: =E41/$E$49 -> 0.022976406
...
